BEGIN:VCALENDAR
VERSION:2.0
PRODID:-//Zebula Golf Estate &amp; Spa - ECPv6.5.1.3//NONSGML v1.0//EN
CALSCALE:GREGORIAN
METHOD:PUBLISH
X-WR-CALNAME:Zebula Golf Estate &amp; Spa
X-ORIGINAL-URL:https://zebulagolfestate.co.za
X-WR-CALDESC:Events for Zebula Golf Estate &amp; Spa
REFRESH-INTERVAL;VALUE=DURATION:PT1H
X-Robots-Tag:noindex
X-PUBLISHED-TTL:PT1H
BEGIN:VTIMEZONE
TZID:Africa/Johannesburg
BEGIN:STANDARD
TZOFFSETFROM:+0200
TZOFFSETTO:+0200
TZNAME:SAST
DTSTART:20230101T000000
END:STANDARD
END:VTIMEZONE
BEGIN:VEVENT
DTSTART;TZID=Africa/Johannesburg:20230707T160000
DTEND;TZID=Africa/Johannesburg:20230707T180000
DTSTAMP:20260424T164147
CREATED:20230705T170606Z
LAST-MODIFIED:20230707T084215Z
UID:52678-1688745600-1688752800@zebulagolfestate.co.za
SUMMARY:3 CLUBS & A PUTTER TOURNAMENT
DESCRIPTION:Join us every Friday at 16:00 for an exhilarating 3-Club Challenge at the Zebula first tee-box. In this unique format\, you get to choose any three clubs of your liking\, along with your putter\, and these will be the only clubs you can use throughout the entire round of golf. For example\, you might select a hybrid\, a 5-iron\, and a 9-iron. We will be playing three specific holes: #1\, hole 8\, and hole 9. \nIt’s crucial to select your clubs wisely because the clubs you choose at hole 1 must be used for the remaining holes as well. This adds an extra layer of strategy and excitement to the game. With just three clubs at your disposal\, you’ll need to master the art of choking down\, adjusting your swing intensity\, opening the clubface\, and employing various other techniques. You’ll be challenged with knockdown shots\, half-shots\, and more. \nThe ultimate objective is to complete the round with the fewest number of shots possible. It’s a thrilling competition that promises a lot of fun and surprises. Are you ready to put your skills to the test in this unique format? \nJoin us for the 3-Club Challenge and prepare for an unforgettable experience on the course!
URL:https://zebulagolfestate.co.za/event/3-clubs-a-putter-tournament/2023-07-07/
CATEGORIES:Golf
ATTACH;FMTTYPE=image/jpeg:https://zebulagolfestate.co.za/wp-content/uploads/2023/07/3-CLUBS-1-scaled.jpeg
END:VEVENT
END:VCALENDAR