BEGIN:VCALENDAR
VERSION:2.0
PRODID:-//Zebula Golf Estate &amp; Spa - ECPv6.5.1.3//NONSGML v1.0//EN
CALSCALE:GREGORIAN
METHOD:PUBLISH
X-ORIGINAL-URL:https://zebulagolfestate.co.za
X-WR-CALDESC:Events for Zebula Golf Estate &amp; Spa
REFRESH-INTERVAL;VALUE=DURATION:PT1H
X-Robots-Tag:noindex
X-PUBLISHED-TTL:PT1H
BEGIN:VTIMEZONE
TZID:Africa/Johannesburg
BEGIN:STANDARD
TZOFFSETFROM:+0200
TZOFFSETTO:+0200
TZNAME:SAST
DTSTART:20230101T000000
END:STANDARD
END:VTIMEZONE
BEGIN:VEVENT
DTSTART;TZID=Africa/Johannesburg:20230728T160000
DTEND;TZID=Africa/Johannesburg:20230728T190000
DTSTAMP:20260424T233705
CREATED:20230725T114746Z
LAST-MODIFIED:20230725T120154Z
UID:53474-1690560000-1690570800@zebulagolfestate.co.za
SUMMARY:Kyle September
DESCRIPTION:This weekend at Dirk’s Place is set to deliver an incredible entertainment experience with the highly anticipated appearance of singer-songwriter Kyle September on both Friday and Saturday. Kyle gained fame last year when his debut album\, “Sweetness\,” rocked local airwaves and showcased a fantastic collection of vibrant and uplifting pop music that perfectly embodies September’s signature sound and style. It’s a weekend not to be missed for music enthusiasts and fans alike!
URL:https://zebulagolfestate.co.za/event/kyle-september/2023-07-28/
CATEGORIES:Music
ATTACH;FMTTYPE=image/jpeg:https://zebulagolfestate.co.za/wp-content/uploads/2023/07/1f41fa93-f2ac-48e5-b5a7-e80965c2295b.jpg
END:VEVENT
END:VCALENDAR