BEGIN:VCALENDAR
VERSION:2.0
PRODID:-//Zebula Golf Estate &amp; Spa - ECPv6.5.1.3//NONSGML v1.0//EN
CALSCALE:GREGORIAN
METHOD:PUBLISH
X-ORIGINAL-URL:https://zebulagolfestate.co.za
X-WR-CALDESC:Events for Zebula Golf Estate &amp; Spa
REFRESH-INTERVAL;VALUE=DURATION:PT1H
X-Robots-Tag:noindex
X-PUBLISHED-TTL:PT1H
BEGIN:VTIMEZONE
TZID:Africa/Johannesburg
BEGIN:STANDARD
TZOFFSETFROM:+0200
TZOFFSETTO:+0200
TZNAME:SAST
DTSTART:20240101T000000
END:STANDARD
END:VTIMEZONE
BEGIN:VEVENT
DTSTART;TZID=Africa/Johannesburg:20240607T070000
DTEND;TZID=Africa/Johannesburg:20240607T170000
DTSTAMP:20260426T040358
CREATED:20240423T112025Z
LAST-MODIFIED:20240423T112025Z
UID:65443-1717743600-1717779600@zebulagolfestate.co.za
SUMMARY:Bushveld Golf Classic
DESCRIPTION:Limpopo is celebrated for its exceptional golf courses\, and Bela-Bela\, located in the scenic Waterberg region\, is a favorite destination for numerous golf tournaments\, attracting players to its world-class greens. In light of this\, we are excited to invite the estates in the area to participate in the inaugural annual Bushveld Classic. This tournament will be held on June 7\, 2024\, and each estate may enter one or two teams\, with each team comprising four players. The entry fee is R795 per player\, which includes a golf cart. \n  \nAre you ready to compete and determine who will be crowned the Champion of the Bushveld for 2024?
URL:https://zebulagolfestate.co.za/event/bushveld-golf-classic/
LOCATION:Zebula Club House\, Zebula Golf Estate and Spa\, Bela Bela\, 0480\, South Africa
CATEGORIES:Golf
ATTACH;FMTTYPE=image/jpeg:https://zebulagolfestate.co.za/wp-content/uploads/2024/04/FACEBOOK-COVER.jpg
END:VEVENT
END:VCALENDAR