BEGIN:VCALENDAR
VERSION:2.0
PRODID:-//Zebula Golf Estate &amp; Spa - ECPv6.5.1.3//NONSGML v1.0//EN
CALSCALE:GREGORIAN
METHOD:PUBLISH
X-WR-CALNAME:Zebula Golf Estate &amp; Spa
X-ORIGINAL-URL:https://zebulagolfestate.co.za
X-WR-CALDESC:Events for Zebula Golf Estate &amp; Spa
REFRESH-INTERVAL;VALUE=DURATION:PT1H
X-Robots-Tag:noindex
X-PUBLISHED-TTL:PT1H
BEGIN:VTIMEZONE
TZID:Africa/Johannesburg
BEGIN:STANDARD
TZOFFSETFROM:+0200
TZOFFSETTO:+0200
TZNAME:SAST
DTSTART:20240101T000000
END:STANDARD
END:VTIMEZONE
BEGIN:VEVENT
DTSTART;TZID=Africa/Johannesburg:20241206T150000
DTEND;TZID=Africa/Johannesburg:20241207T190000
DTSTAMP:20260425T183840
CREATED:20241108T120243Z
LAST-MODIFIED:20241108T120243Z
UID:74547-1733497200-1733598000@zebulagolfestate.co.za
SUMMARY:Geoff St John at The Mulligan
DESCRIPTION: Get Ready for a Blast from the Past! The legendary 70’s hitmaker\, Geoff St Johns\, is back and ready to rock Mulligans\, the Irish Bar at the Zebula Clubhouse\, this Friday afternoon and Saturday! Join us for an unforgettable musical journey as we relive some of the greatest hits performed by the iconic Geoff St Johns. Don’t miss out on this incredible opportunity to see a true music legend live in action! Gather your friends\, grab a drink\, and let’s make this a weekend to remember. 
URL:https://zebulagolfestate.co.za/event/geoff-st-john-at-the-mulligan/2024-12-06/
LOCATION:Zebula Club House\, Zebula Golf Estate and Spa\, Bela Bela\, 0480\, South Africa
CATEGORIES:Music,Weekend
ATTACH;FMTTYPE=image/jpeg:https://zebulagolfestate.co.za/wp-content/uploads/2024/11/449445776_811280837789853_4698417363703588146_n.jpg
ORGANIZER;CN="Zebula Conferencing":MAILTO:conferencing@zebula.co.za
END:VEVENT
END:VCALENDAR