BEGIN:VCALENDAR
VERSION:2.0
PRODID:-//Zebula Golf Estate &amp; Spa - ECPv6.5.1.3//NONSGML v1.0//EN
CALSCALE:GREGORIAN
METHOD:PUBLISH
X-ORIGINAL-URL:https://zebulagolfestate.co.za
X-WR-CALDESC:Events for Zebula Golf Estate &amp; Spa
REFRESH-INTERVAL;VALUE=DURATION:PT1H
X-Robots-Tag:noindex
X-PUBLISHED-TTL:PT1H
BEGIN:VTIMEZONE
TZID:Africa/Johannesburg
BEGIN:STANDARD
TZOFFSETFROM:+0200
TZOFFSETTO:+0200
TZNAME:SAST
DTSTART:20240101T000000
END:STANDARD
END:VTIMEZONE
BEGIN:VEVENT
DTSTART;TZID=Africa/Johannesburg:20241214T080000
DTEND;TZID=Africa/Johannesburg:20241215T170000
DTSTAMP:20260425T184506
CREATED:20241108T123326Z
LAST-MODIFIED:20241124T162519Z
UID:74549-1734163200-1734282000@zebulagolfestate.co.za
SUMMARY:ELEBULA GOLF TOURNAMENT 2024
DESCRIPTION:R1090 \nPER PERSON \nIncludes golf for both days\, halfway house and snacks afterwards\, excluding golf carts. | Betterball Stableford \n14 DEC – ZEBULA Registration at Proshop from 8:00 am Tee off from 11:00 am \n15 DEC -ELEMENTS Registration at Proshop from 7:00 am Tee off from 8:30 am\n24 Players per side \nREGISTRATION & INFORMATION: Call ProShop: 014 734 7708 or email: proshop@zebula.co.za
URL:https://zebulagolfestate.co.za/event/elebula-golf-tournament/
LOCATION:Zebula Club House\, Zebula Golf Estate and Spa\, Bela Bela\, 0480\, South Africa
CATEGORIES:Golf
ATTACH;FMTTYPE=image/jpeg:https://zebulagolfestate.co.za/wp-content/uploads/2024/11/ele.jpg
ORGANIZER;CN="Zebula Conferencing":MAILTO:conferencing@zebula.co.za
END:VEVENT
END:VCALENDAR