BEGIN:VCALENDAR
VERSION:2.0
PRODID:-//Zebula Golf Estate &amp; Spa - ECPv6.5.1.3//NONSGML v1.0//EN
CALSCALE:GREGORIAN
METHOD:PUBLISH
X-WR-CALNAME:Zebula Golf Estate &amp; Spa
X-ORIGINAL-URL:https://zebulagolfestate.co.za
X-WR-CALDESC:Events for Zebula Golf Estate &amp; Spa
REFRESH-INTERVAL;VALUE=DURATION:PT1H
X-Robots-Tag:noindex
X-PUBLISHED-TTL:PT1H
BEGIN:VTIMEZONE
TZID:Africa/Johannesburg
BEGIN:STANDARD
TZOFFSETFROM:+0200
TZOFFSETTO:+0200
TZNAME:SAST
DTSTART:20240101T000000
END:STANDARD
END:VTIMEZONE
BEGIN:VEVENT
DTSTART;TZID=Africa/Johannesburg:20241220T150000
DTEND;TZID=Africa/Johannesburg:20250112T140000
DTSTAMP:20260425T172349
CREATED:20240926T110533Z
LAST-MODIFIED:20241206T045427Z
UID:72601-1734706800-1736690400@zebulagolfestate.co.za
SUMMARY:Geoff St John at zebula
DESCRIPTION:This Weekend at THE MULLIGAN! \n\n\n\nJoin us at Zebula Golf Estate and Spa’s THE MULLIGAN Irish Restaurant for a special performance by Geoff St. John\, the legendary artist who brought us hits like ‘Kiss Me Kiss Your Baby’ and ‘Candy.’ \n\n\n\nGeoff shot to fame in the ‘70s with his iconic Top 10 hits\, and now\, he’s gracing our stage from 13 Dec to 05 January 2025 Don’t miss the chance to hear his timeless tunes live as he brings back the magic of ‘Kiss Me Kiss Your Baby\,’ which peaked at #10 in South Africa\, and ‘Candy\,’ another South African Top 10 sensation.\n\n\n\nHaving opened for stars like Cliff Richard and Natalie Cole\, Geoff has performed on stages across Europe and South Africa\, and now it’s your turn to experience his electrifying show.\n\n\n\n Grab your friends\, enjoy some great food and drinks\, and let the music take you back!
URL:https://zebulagolfestate.co.za/event/geoff-st-john-at-zebula/2024-12-20/
LOCATION:Zebula Club House\, Zebula Golf Estate and Spa\, Bela Bela\, 0480\, South Africa
CATEGORIES:Music
ATTACH;FMTTYPE=image/jpeg:https://zebulagolfestate.co.za/wp-content/uploads/2024/09/GEOFF-XMAS.jpg
ORGANIZER;CN="Zebula Conferencing":MAILTO:conferencing@zebula.co.za
END:VEVENT
END:VCALENDAR