BEGIN:VCALENDAR
VERSION:2.0
PRODID:-//Zebula Golf Estate &amp; Spa - ECPv6.5.1.3//NONSGML v1.0//EN
CALSCALE:GREGORIAN
METHOD:PUBLISH
X-WR-CALNAME:Zebula Golf Estate &amp; Spa
X-ORIGINAL-URL:https://zebulagolfestate.co.za
X-WR-CALDESC:Events for Zebula Golf Estate &amp; Spa
REFRESH-INTERVAL;VALUE=DURATION:PT1H
X-Robots-Tag:noindex
X-PUBLISHED-TTL:PT1H
BEGIN:VTIMEZONE
TZID:Africa/Johannesburg
BEGIN:STANDARD
TZOFFSETFROM:+0200
TZOFFSETTO:+0200
TZNAME:SAST
DTSTART:20250101T000000
END:STANDARD
END:VTIMEZONE
BEGIN:VEVENT
DTSTART;TZID=Africa/Johannesburg:20250221T150000
DTEND;TZID=Africa/Johannesburg:20250222T200000
DTSTAMP:20260425T135612
CREATED:20250115T141933Z
LAST-MODIFIED:20250115T141933Z
UID:78735-1740150000-1740254400@zebulagolfestate.co.za
SUMMARY:Sarah Jade Singer Songwriter
DESCRIPTION:Sarah Jade is a folk singer-songwriter from Pretoria. Her deep love of song writing and story telling leaves the audience hanging on her every word. Don’t let her quirky blue hair fool you\, she writes about the real stuff. While her sound can be described as Taylor Swift meets Noah Kahan\, meets Olivia Rodrigo meets Alanis Morissette\, Sarah is passionate about topics such as mental health\, heartbreak and depression as she aims to create uplifting melodies and rhythms to reclaim those moments.
URL:https://zebulagolfestate.co.za/event/sarah-jade-singer-songwriter-2/
LOCATION:Zebula Conference Centre\, FARM NO 534 KQ\, D1000\, MABULA DISTRICT\, Bela-Bela\, Limpopo\, 0480\, South Africa
CATEGORIES:Festive Season,Music
ATTACH;FMTTYPE=image/jpeg:https://zebulagolfestate.co.za/wp-content/uploads/2024/11/Screenshot-2024-11-12-at-07.58.27.jpg
ORGANIZER;CN="Zebula Conferencing":MAILTO:conferencing@zebula.co.za
END:VEVENT
END:VCALENDAR