BEGIN:VCALENDAR
VERSION:2.0
PRODID:-//Zebula Golf Estate &amp; Spa - ECPv6.5.1.3//NONSGML v1.0//EN
CALSCALE:GREGORIAN
METHOD:PUBLISH
X-ORIGINAL-URL:https://zebulagolfestate.co.za
X-WR-CALDESC:Events for Zebula Golf Estate &amp; Spa
REFRESH-INTERVAL;VALUE=DURATION:PT1H
X-Robots-Tag:noindex
X-PUBLISHED-TTL:PT1H
BEGIN:VTIMEZONE
TZID:Africa/Johannesburg
BEGIN:STANDARD
TZOFFSETFROM:+0200
TZOFFSETTO:+0200
TZNAME:SAST
DTSTART:20250101T000000
END:STANDARD
END:VTIMEZONE
BEGIN:VEVENT
DTSTART;TZID=Africa/Johannesburg:20251024T153000
DTEND;TZID=Africa/Johannesburg:20251025T200000
DTSTAMP:20260424T210429
CREATED:20250709T130944Z
LAST-MODIFIED:20251021T143934Z
UID:86354-1761319800-1761422400@zebulagolfestate.co.za
SUMMARY:JEPH ON SAX
DESCRIPTION:Smooth sounds\, cool vibes\, and Jeph on the sax!\nJoin us at the Zebula Clubhouse this 24-25 October 2025 for unforgettable live saxophone magic. Whether you’re sipping sundowners or dancing under the stars\, Jeff’s soulful melodies will set the perfect mood.
URL:https://zebulagolfestate.co.za/event/jeff-on-sax/
LOCATION:Zebula Club House\, Zebula Golf Estate and Spa\, Bela Bela\, 0480\, South Africa
ATTACH;FMTTYPE=image/jpeg:https://zebulagolfestate.co.za/wp-content/uploads/2025/07/JEPH.jpg
ORGANIZER;CN="Zebula Conferencing":MAILTO:conferencing@zebula.co.za
END:VEVENT
END:VCALENDAR