BEGIN:VCALENDAR
VERSION:2.0
PRODID:-//Zebula Golf Estate &amp; Spa - ECPv6.5.1.3//NONSGML v1.0//EN
CALSCALE:GREGORIAN
METHOD:PUBLISH
X-WR-CALNAME:Zebula Golf Estate &amp; Spa
X-ORIGINAL-URL:https://zebulagolfestate.co.za
X-WR-CALDESC:Events for Zebula Golf Estate &amp; Spa
REFRESH-INTERVAL;VALUE=DURATION:PT1H
X-Robots-Tag:noindex
X-PUBLISHED-TTL:PT1H
BEGIN:VTIMEZONE
TZID:Africa/Johannesburg
BEGIN:STANDARD
TZOFFSETFROM:+0200
TZOFFSETTO:+0200
TZNAME:SAST
DTSTART:20260101T000000
END:STANDARD
END:VTIMEZONE
BEGIN:VEVENT
DTSTART;TZID=Africa/Johannesburg:20260126T080000
DTEND;TZID=Africa/Johannesburg:20260201T170000
DTSTAMP:20260424T144919
CREATED:20250720T130403Z
LAST-MODIFIED:20260107T120151Z
UID:86874-1769414400-1769965200@zebulagolfestate.co.za
SUMMARY:SDC Open 2026
DESCRIPTION:The 2026 Road to Mallorca begins in South Africa this week with the SDC Open at Zebula Golf Estate & Spa\, Limpopo \nParticipants in the tournament can book their accommodation by clicking here
URL:https://zebulagolfestate.co.za/event/sdc-open-2026/
LOCATION:Zebula Golf Course\, FARM NO 534 KQ\, D1000\, MABULA DISTRICT\, Bela-Bela\, Limpopo\, 0480\, South Africa
CATEGORIES:Golf
ATTACH;FMTTYPE=image/jpeg:https://zebulagolfestate.co.za/wp-content/uploads/2025/07/SDC2026.jpg
ORGANIZER;CN="Zebula Reservations":MAILTO:reservations@zebula.co.za
END:VEVENT
BEGIN:VEVENT
DTSTART;TZID=Africa/Johannesburg:20260131T153000
DTEND;TZID=Africa/Johannesburg:20260201T190000
DTSTAMP:20260424T144919
CREATED:20250727T104929Z
LAST-MODIFIED:20250727T104929Z
UID:91766-1769873400-1769972400@zebulagolfestate.co.za
SUMMARY:CLINTON VILJOEN
DESCRIPTION:🎶 Live Music with Clinton Viljoen at the Zebula ClubhouseJoin us for some unforgettable live music as the incredibly talented Clinton Viljoen takes the stage at the Zebula Clubhouse. \nKnown for his soulful melodies\, masterful arrangements\, and boundless musical talent\, Clinton brings a rich and dynamic performance that resonates with audiences of all ages. Whether he’s behind the mic\, on the keys\, or crafting harmonies\, his passion for music is undeniable. \nKick back\, relax\, and enjoy the vibrant Bushveld atmosphere with great food\, refreshing drinks\, and the sounds of a rising star. \nNo cover charge | Walk-ins welcome
URL:https://zebulagolfestate.co.za/event/clinton-viljoen-12/2026-01-31/
LOCATION:Zebula Club House\, Zebula Golf Estate and Spa\, Bela Bela\, 0480\, South Africa
CATEGORIES:Music
ATTACH;FMTTYPE=image/jpeg:https://zebulagolfestate.co.za/wp-content/uploads/2025/07/1196694000008111004_zc_v1_1752670353750_clinton_mailer.jpg
ORGANIZER;CN="Zebula Conferencing":MAILTO:conferencing@zebula.co.za
END:VEVENT
END:VCALENDAR