BEGIN:VCALENDAR
VERSION:2.0
PRODID:-//Zebula Golf Estate &amp; Spa - ECPv6.5.1.3//NONSGML v1.0//EN
CALSCALE:GREGORIAN
METHOD:PUBLISH
X-WR-CALNAME:Zebula Golf Estate &amp; Spa
X-ORIGINAL-URL:https://zebulagolfestate.co.za
X-WR-CALDESC:Events for Zebula Golf Estate &amp; Spa
REFRESH-INTERVAL;VALUE=DURATION:PT1H
X-Robots-Tag:noindex
X-PUBLISHED-TTL:PT1H
BEGIN:VTIMEZONE
TZID:Africa/Johannesburg
BEGIN:STANDARD
TZOFFSETFROM:+0200
TZOFFSETTO:+0200
TZNAME:SAST
DTSTART:20260101T000000
END:STANDARD
END:VTIMEZONE
BEGIN:VEVENT
DTSTART;TZID=Africa/Johannesburg:20260301T110000
DTEND;TZID=Africa/Johannesburg:20260301T190000
DTSTAMP:20260424T144918
CREATED:20260225T060933Z
LAST-MODIFIED:20260225T060933Z
UID:92088-1772362800-1772391600@zebulagolfestate.co.za
SUMMARY:Sunday Jazz with G7
DESCRIPTION:G7 Live Band take over every Sunday with their signature blend of smooth soul\, mellow blues and laid-back jazz — the kind of sound that makes you lean back\, tap your foot\, and completely lose track of time. \nCold drinks. Good food. Live music drifting through the Clubhouse. \nIf you’re at Zebula on a Sunday\, this is where you want to be. \nPull up a chair\, grab a drink\, and let the afternoon swing. 🎷🍻
URL:https://zebulagolfestate.co.za/event/sunday-jazz-with-g7/2026-03-01/
LOCATION:Zebula Club House\, Zebula Golf Estate and Spa\, Bela Bela\, 0480\, South Africa
CATEGORIES:Music
ATTACH;FMTTYPE=image/jpeg:https://zebulagolfestate.co.za/wp-content/uploads/2026/02/630626993_1224427113141888_4181090033511043797_n.jpg
ORGANIZER;CN="Zebula Conferencing":MAILTO:conferencing@zebula.co.za
END:VEVENT
END:VCALENDAR