BEGIN:VCALENDAR
VERSION:2.0
PRODID:-//Zebula Golf Estate &amp; Spa - ECPv6.5.1.3//NONSGML v1.0//EN
CALSCALE:GREGORIAN
METHOD:PUBLISH
X-ORIGINAL-URL:https://zebulagolfestate.co.za
X-WR-CALDESC:Events for Zebula Golf Estate &amp; Spa
REFRESH-INTERVAL;VALUE=DURATION:PT1H
X-Robots-Tag:noindex
X-PUBLISHED-TTL:PT1H
BEGIN:VTIMEZONE
TZID:Africa/Johannesburg
BEGIN:STANDARD
TZOFFSETFROM:+0200
TZOFFSETTO:+0200
TZNAME:SAST
DTSTART:20260101T000000
END:STANDARD
END:VTIMEZONE
BEGIN:VEVENT
DTSTART;TZID=Africa/Johannesburg:20260320T080000
DTEND;TZID=Africa/Johannesburg:20260321T170000
DTSTAMP:20260424T132037
CREATED:20260225T063005Z
LAST-MODIFIED:20260225T063229Z
UID:92112-1773993600-1774112400@zebulagolfestate.co.za
SUMMARY:ALouise
DESCRIPTION:One of our favourite vocalists\, ALouise\, returns to The Mulligan at Zebula — and we couldn’t be more excited.\n\n\nJoin us this weekend for songs about love\, happiness\, and everything in between. ALouise brings her signature blend of commercial pop and original music that always gets the crowd smiling\, singing along\, and staying just a little longer.\n\n\nYou can catch her on Friday afternoon\, and again on Saturday from 11am right through until 8pm.\n\n\nGreat music. Delicious food. Relaxed Bushveld vibes.\nThat warm Zebula hospitality you know and love.\n\n\nMake a day of it — we’ll see you at The Mulligan.
URL:https://zebulagolfestate.co.za/event/alouise/
LOCATION:Zebula Club House\, Zebula Golf Estate and Spa\, Bela Bela\, 0480\, South Africa
CATEGORIES:Music
ATTACH;FMTTYPE=image/jpeg:https://zebulagolfestate.co.za/wp-content/uploads/2026/02/633375723_1229375362647063_1089183883653900374_n.jpg
ORGANIZER;CN="Zebula Conferencing":MAILTO:conferencing@zebula.co.za
END:VEVENT
END:VCALENDAR