BEGIN:VCALENDAR
VERSION:2.0
PRODID:-//Zebula Golf Estate &amp; Spa - ECPv6.5.1.3//NONSGML v1.0//EN
CALSCALE:GREGORIAN
METHOD:PUBLISH
X-ORIGINAL-URL:https://zebulagolfestate.co.za
X-WR-CALDESC:Events for Zebula Golf Estate &amp; Spa
REFRESH-INTERVAL;VALUE=DURATION:PT1H
X-Robots-Tag:noindex
X-PUBLISHED-TTL:PT1H
BEGIN:VTIMEZONE
TZID:Africa/Johannesburg
BEGIN:STANDARD
TZOFFSETFROM:+0200
TZOFFSETTO:+0200
TZNAME:SAST
DTSTART:20230101T000000
END:STANDARD
END:VTIMEZONE
BEGIN:VEVENT
DTSTART;TZID=Africa/Johannesburg:20250530T080000
DTEND;TZID=Africa/Johannesburg:20250601T130000
DTSTAMP:20260424T173857
CREATED:20250424T105724Z
LAST-MODIFIED:20250602T101706Z
UID:82988-1748592000-1748782800@zebulagolfestate.co.za
SUMMARY:Weekend activities: 30 May - 1 June 2025
DESCRIPTION:30 May 2025 \n15:00 MULLIGANS BAR\nBeat the Pro \n16:00 JNR RANGERS\nKids Quad Bike Ride \n17:00 JNR MASTER CHEF\nKids Pizza Making\n18:00 GOLF ACADAMY \nFree Chipping Class \n19:00 MULLIGANS BAR \nNight Shootout \n20:00  MULLIGANS BAR\nKaraoke \n\n31 May 2025 \n09:00 JNR RANGERS \nKids Game Walk- Meet at\nAdventures & Activity Centre \n10:00 GOLF ACADAMY\nChipping Lesson – Meet at\nthe Pro Shop\n11:00 JNR GAME RANGER\nAnimal/Bird/Plant Identification\n12:00 JNR GAME RANGER\nReptile Demo/Bokdrol spoeg – meet\nat the Adventure & Activity Centre \n13:00 JNR MASTER CHEF\nKids Pizza Making \n14:00  MULLIGANS BAR\nGeneral Knowledge Quiz \n15:00 MULLIGANS BAR\nBeat the Pro \n16:00 JNR RANGERS\nKids Quad Bike Ride \n17:00 GOLF ACADAMY\nFree Putting Class      18:00 MULLIGANS BAR\n     Longest drive competition\n     19:00 MULLIGANS BAR \n     Night Putt Putt \n     20:00  MULLIGANS BAR\n       Karaoke \n\n01 June 2025 \n09:00 JNR RANGERS \nKids Game Walk- Meet at\nAdventures & Activity Centre \n10:00 GOLF ACADAMY\nBunker – Meet at the Pro Shop\n11:00 JNR GAME RANGER\nFind the Birds\n12:00 Sunday Lunch\nJoin Us  lunch at the Terrace Restaurant\nPizza Special only R189 for two pizzas \n 
URL:https://zebulagolfestate.co.za/event/weekend-may/
LOCATION:Zebula Club House\, Zebula Golf Estate and Spa\, Bela Bela\, 0480\, South Africa
CATEGORIES:Activities
ATTACH;FMTTYPE=image/jpeg:https://zebulagolfestate.co.za/wp-content/uploads/2024/05/MixCollage-29-Aug-2024-04-01-PM-7597-scaled.jpg
END:VEVENT
BEGIN:VEVENT
DTSTART;TZID=Africa/Johannesburg:20250523T140000
DTEND;TZID=Africa/Johannesburg:20250524T220000
DTSTAMP:20260424T173857
CREATED:20250115T142721Z
LAST-MODIFIED:20250523T063758Z
UID:78745-1748008800-1748124000@zebulagolfestate.co.za
SUMMARY:Singer Songwriter Alouise
DESCRIPTION:This Weekend at The Mulligan: Alouise Live! \n\n\nGet ready for an unforgettable experience as the incredibly talented Alouise takes the stage at The Mulligan\, Zebula Clubhouse this weekend! \n\n\n Who is Alouise?\n\n\nA multi-instrumentalist with 20 years of music teaching experience.\nPlays guitar\, bass\, drums\, sings\, and dabbles in music production and songwriting.\nCurrently the bassist for multi-platinum Afrikaans superstar\, Bok van Blerk.\nA seasoned performer who has graced South Africa’s biggest stages and worked with top local and international artists.
URL:https://zebulagolfestate.co.za/event/singer-songwriter-alouise-4/
LOCATION:Zebula Club House\, Zebula Golf Estate and Spa\, Bela Bela\, 0480\, South Africa
CATEGORIES:Activities,Music
ATTACH;FMTTYPE=image/jpeg:https://zebulagolfestate.co.za/wp-content/uploads/2025/01/Alouise.jpg
ORGANIZER;CN="Zebula Reservations":MAILTO:reservations@zebula.co.za
END:VEVENT
BEGIN:VEVENT
DTSTART;TZID=Africa/Johannesburg:20250411T140000
DTEND;TZID=Africa/Johannesburg:20250412T220000
DTSTAMP:20260424T173857
CREATED:20250115T142620Z
LAST-MODIFIED:20250115T142620Z
UID:78743-1744380000-1744495200@zebulagolfestate.co.za
SUMMARY:Singer Songwriter Alouise
DESCRIPTION:This Weekend at The Mulligan: Alouise Live! \n\n\nGet ready for an unforgettable experience as the incredibly talented Alouise takes the stage at The Mulligan\, Zebula Clubhouse this weekend! \n\n\n Who is Alouise?\n\n\nA multi-instrumentalist with 20 years of music teaching experience.\nPlays guitar\, bass\, drums\, sings\, and dabbles in music production and songwriting.\nCurrently the bassist for multi-platinum Afrikaans superstar\, Bok van Blerk.\nA seasoned performer who has graced South Africa’s biggest stages and worked with top local and international artists.\n Bonus! Santa will also be stopping by! Bring the little ones (or your wish list!) and share your Christmas wishes. \n\n\n Where: The Mulligan\, Zebula Clubhouse\n When: This weekend\n\n\n Don’t miss this magical night of music and holiday cheer. See you there!
URL:https://zebulagolfestate.co.za/event/singer-songwriter-alouise-3/
LOCATION:Zebula Club House\, Zebula Golf Estate and Spa\, Bela Bela\, 0480\, South Africa
CATEGORIES:Activities,Music
ATTACH;FMTTYPE=image/jpeg:https://zebulagolfestate.co.za/wp-content/uploads/2025/01/Alouise.jpg
ORGANIZER;CN="Zebula Reservations":MAILTO:reservations@zebula.co.za
END:VEVENT
BEGIN:VEVENT
DTSTART;TZID=Africa/Johannesburg:20250411T080000
DTEND;TZID=Africa/Johannesburg:20250413T130000
DTSTAMP:20260424T173857
CREATED:20250318T061359Z
LAST-MODIFIED:20250411T105718Z
UID:80856-1744358400-1744549200@zebulagolfestate.co.za
SUMMARY:Weekend activities 11 - 13 April 2025
DESCRIPTION:Program: \nFriday 11 April\n10:00 – Hula Hoop Challenge\n11:00 – Paint your own rock\n11:30 – Pop Quiz\n13:00 – Hot Potato\n14:00 – Putt – Putt\n15:00 – Touch Rugby\n16:00 – Freeze Dance \nSaturday 12 April\n08:00 – Musical Chairs\n09:00 – Scavenger Hunt\n10:00 – Cupcake Decorating\n11:00 – Finger Art\n12:00 – Egg Run\n14:00 – Trivia\n15:00 – Beat the pro\n16:00 – Putt to win\n19:00 – Night Shootout \nSunday 13 April\n08:00 – Guess that song\n09:00 – Pop Quiz\n10:00 – Waffle Decorating\n11:00 – Hula hoop challenge
URL:https://zebulagolfestate.co.za/event/weekend-activities/
LOCATION:Zebula Club House\, Zebula Golf Estate and Spa\, Bela Bela\, 0480\, South Africa
CATEGORIES:Activities
ATTACH;FMTTYPE=image/jpeg:https://zebulagolfestate.co.za/wp-content/uploads/2024/05/MixCollage-29-Aug-2024-04-01-PM-7597-scaled.jpg
END:VEVENT
BEGIN:VEVENT
DTSTART;TZID=Africa/Johannesburg:20250321T140000
DTEND;TZID=Africa/Johannesburg:20250322T220000
DTSTAMP:20260424T173857
CREATED:20250115T142400Z
LAST-MODIFIED:20250115T142400Z
UID:78739-1742565600-1742680800@zebulagolfestate.co.za
SUMMARY:Singer Songwriter Alouise
DESCRIPTION:This Weekend at The Mulligan: Alouise Live! \n\n\nGet ready for an unforgettable experience as the incredibly talented Alouise takes the stage at The Mulligan\, Zebula Clubhouse this weekend! \n\n\n Who is Alouise?\n\n\nA multi-instrumentalist with 20 years of music teaching experience.\nPlays guitar\, bass\, drums\, sings\, and dabbles in music production and songwriting.\nCurrently the bassist for multi-platinum Afrikaans superstar\, Bok van Blerk.\nA seasoned performer who has graced South Africa’s biggest stages and worked with top local and international artists.\n Bonus! Santa will also be stopping by! Bring the little ones (or your wish list!) and share your Christmas wishes. \n\n\n Where: The Mulligan\, Zebula Clubhouse\n When: This weekend\n\n\n Don’t miss this magical night of music and holiday cheer. See you there!
URL:https://zebulagolfestate.co.za/event/singer-songwriter-alouise-2/
LOCATION:Zebula Club House\, Zebula Golf Estate and Spa\, Bela Bela\, 0480\, South Africa
CATEGORIES:Activities,Music
ATTACH;FMTTYPE=image/jpeg:https://zebulagolfestate.co.za/wp-content/uploads/2025/01/Alouise.jpg
ORGANIZER;CN="Zebula Reservations":MAILTO:reservations@zebula.co.za
END:VEVENT
BEGIN:VEVENT
DTSTART;TZID=Africa/Johannesburg:20250228T080000
DTEND;TZID=Africa/Johannesburg:20250302T130000
DTSTAMP:20260424T173857
CREATED:20240502T125808Z
LAST-MODIFIED:20250228T072501Z
UID:65933-1740729600-1740920400@zebulagolfestate.co.za
SUMMARY:Weekend activities 28February - 02 March 2025
DESCRIPTION:February 28th:\n13:00 – Putt Putt \n14:00 – Face Painting \n15:00 – Rock Painting \n16:00 – Squash Game \n17:00 – Putt To Win \n18:00 – Karaoke \nMarch 1st:\n10:00 – Kiddies Nature Walk \n11 :00 – Netball \n12:00 – Water Balloon Wars \n13:00 – Kiddies Pizza Making \n14:00 – Putt Putt \n1 5:00 – Beat The Pro \n16:00 – Putt To Win \n17:00 – Golf Ball Spoon Race \n18:00 – Beer Pong \nMarch 2nd:\n10:00 – Kiddies Archery \n11 :00 – Putt Putt \n12:00 – Tennis \n13:00 – Face Painting
URL:https://zebulagolfestate.co.za/event/weekends/
LOCATION:Zebula Club House\, Zebula Golf Estate and Spa\, Bela Bela\, 0480\, South Africa
CATEGORIES:Activities
ATTACH;FMTTYPE=image/jpeg:https://zebulagolfestate.co.za/wp-content/uploads/2024/05/MixCollage-29-Aug-2024-04-01-PM-7597-scaled.jpg
END:VEVENT
BEGIN:VEVENT
DTSTART;TZID=Africa/Johannesburg:20250124T140000
DTEND;TZID=Africa/Johannesburg:20250125T220000
DTSTAMP:20260424T173857
CREATED:20250115T141149Z
LAST-MODIFIED:20250115T141335Z
UID:78727-1737727200-1737842400@zebulagolfestate.co.za
SUMMARY:Singer Songwriter Alouise
DESCRIPTION:This Weekend at The Mulligan: Alouise Live! \n\n\nGet ready for an unforgettable experience as the incredibly talented Alouise takes the stage at The Mulligan\, Zebula Clubhouse this weekend! \n\n\n Who is Alouise?\n\n\nA multi-instrumentalist with 20 years of music teaching experience.\nPlays guitar\, bass\, drums\, sings\, and dabbles in music production and songwriting.\nCurrently the bassist for multi-platinum Afrikaans superstar\, Bok van Blerk.\nA seasoned performer who has graced South Africa’s biggest stages and worked with top local and international artists.\n Bonus! Santa will also be stopping by! Bring the little ones (or your wish list!) and share your Christmas wishes. \n\n\n Where: The Mulligan\, Zebula Clubhouse\n When: This weekend\n\n\n Don’t miss this magical night of music and holiday cheer. See you there!
URL:https://zebulagolfestate.co.za/event/singer-songwriter-alouise/
LOCATION:Zebula Club House\, Zebula Golf Estate and Spa\, Bela Bela\, 0480\, South Africa
CATEGORIES:Activities,Music
ATTACH;FMTTYPE=image/jpeg:https://zebulagolfestate.co.za/wp-content/uploads/2025/01/Alouise.jpg
ORGANIZER;CN="Zebula Reservations":MAILTO:reservations@zebula.co.za
END:VEVENT
BEGIN:VEVENT
DTSTART;TZID=Africa/Johannesburg:20241005T080000
DTEND;TZID=Africa/Johannesburg:20241012T170000
DTSTAMP:20260424T173857
CREATED:20240818T095947Z
LAST-MODIFIED:20240906T062340Z
UID:70989-1728115200-1728752400@zebulagolfestate.co.za
SUMMARY:WALK AGAINST BREAST CANCER
DESCRIPTION:Join BRAIN BALOYI and FRIENDS FOR A 170 KM WALK FROM PRETORIA TO ZEBULA GOLF ESTATE AND SPA in aid of breast cancer.\nSponsors will contribute a donation for every kilometer walked by a team member\, with the total amount based on the agreed rate per kilometer and paid at the end of the walk to the Pink Warrior Foundation. Guest walkers are welcome to join for a full day or part of the day’s walk\, and companies have the opportunity to send a guest walker while also sponsoring that individual’s participation. \nDay 1 – Saturday 5th October – Meet and greet with the legends and team at the Recency Menlyn. (Activity at the Regency) \nDay 2: 20km – Sunday 6th October 2024 – the Recency Menlyn to\nWonderboom Makro. \nDay 3: 30km – Monday 7Th October 2024 – Wonderboom Makro to Soshanguve. (Activity in Soshanguve) \nDay 4: 30km – Tuesday 8th October – Soshanguve to Makapanstad. \nDay 5: 30km – Wednesday 9th October – Makapanstad to Ngobi.\n(Activity in Ngobi) \nDay 6: 30km – Thursday 10th October – Ngobi to Maatla. \nDay 7: 20km – Friday 11th October – Maatla to Zebula Golf Estate and Spa.\n(Pool Party at Zebula) \nDay 8: 10km – Saturday 12th October Zebula Golf Estate and Spa –\nVingerkraal School (Gala dinner at Zebula)
URL:https://zebulagolfestate.co.za/event/walk-against-breast-cancer/
LOCATION:Zebula Club House\, Zebula Golf Estate and Spa\, Bela Bela\, 0480\, South Africa
CATEGORIES:Activities
ATTACH;FMTTYPE=image/jpeg:https://zebulagolfestate.co.za/wp-content/uploads/2024/08/BREAST-CANCER-WALK.jpg
ORGANIZER;CN="Zebula Conferencing":MAILTO:conferencing@zebula.co.za
END:VEVENT
BEGIN:VEVENT
DTSTART;TZID=Africa/Johannesburg:20231021T140000
DTEND;TZID=Africa/Johannesburg:20231021T160000
DTSTAMP:20260424T173857
CREATED:20231016T100139Z
LAST-MODIFIED:20231016T100417Z
UID:56188-1697896800-1697904000@zebulagolfestate.co.za
SUMMARY:Soccer Legends exhibition match
DESCRIPTION:Zebula Sports Club is thrilled to announce its grand opening! Boasting state-of-the-art facilities such as a paddle court\, tennis court\, soccer court\, swimming pool\, climbing frame\, squash courts\, and a fully-equipped gym\, it’s a sports enthusiast’s dream come true.\n\n\n\nBut that’s not all! To mark this special occasion\, the Zebula Team is gearing up for an exhilarating exhibition match against some of South Africa’s most iconic soccer legends. Get ready to witness the prowess of Brian Baloyi\, Nhlanhla Kubheka\, Edward Motale\, Jabulani Mendu\, Jerry Skhosana\, and Fabian McCarthy as they grace the field.\n\n\n\nAnd once the match is over\, the festivities continue! The entertainment deck at the center is ready with a special launch bar and live entertainment. Don’t miss out on this unique opportunity to mingle and celebrate with some of South Africa’s greatest Soccer Legends. Join us for an unforgettable day of sports\, entertainment\, and camaraderie!
URL:https://zebulagolfestate.co.za/event/soccer-legends-exhibition-match/
CATEGORIES:Activities,Weekend
ATTACH;FMTTYPE=image/jpeg:https://zebulagolfestate.co.za/wp-content/uploads/2023/10/391738256_652232677028004_1149105396903489391_n.jpg
END:VEVENT
BEGIN:VEVENT
DTSTART;TZID=Africa/Johannesburg:20230715T150000
DTEND;TZID=Africa/Johannesburg:20230715T160000
DTSTAMP:20260424T173858
CREATED:20230706T143028Z
LAST-MODIFIED:20230711T164904Z
UID:52728-1689433200-1689436800@zebulagolfestate.co.za
SUMMARY:Bokdrol Spoeg
DESCRIPTION:Bokdrol Spoeg is a South African sport where competitors spit antelope dung as far as possible. \nEach contestant selects a pellet of antelope dung\nThe dung is placed in the mouth and spat as far as possible\nThe farthest distance is the winner\nThe reasons behind this “sport” seem to be more about tricking people to put antelope poop in their mouth than about actual competition
URL:https://zebulagolfestate.co.za/event/bokdrol-spoeg/2023-07-15/
CATEGORIES:Activities
ATTACH;FMTTYPE=image/jpeg:https://zebulagolfestate.co.za/wp-content/uploads/2023/07/BOKDROL-1-scaled.jpeg
END:VEVENT
END:VCALENDAR