BEGIN:VCALENDAR
VERSION:2.0
PRODID:-//Zebula Golf Estate &amp; Spa - ECPv6.5.1.3//NONSGML v1.0//EN
CALSCALE:GREGORIAN
METHOD:PUBLISH
X-ORIGINAL-URL:https://zebulagolfestate.co.za
X-WR-CALDESC:Events for Zebula Golf Estate &amp; Spa
REFRESH-INTERVAL;VALUE=DURATION:PT1H
X-Robots-Tag:noindex
X-PUBLISHED-TTL:PT1H
BEGIN:VTIMEZONE
TZID:Africa/Johannesburg
BEGIN:STANDARD
TZOFFSETFROM:+0200
TZOFFSETTO:+0200
TZNAME:SAST
DTSTART:20250101T000000
END:STANDARD
END:VTIMEZONE
BEGIN:VEVENT
DTSTART;TZID=Africa/Johannesburg:20251018T110000
DTEND;TZID=Africa/Johannesburg:20251018T220000
DTSTAMP:20260426T053331
CREATED:20251016T063447Z
LAST-MODIFIED:20251016T063447Z
UID:90467-1760785200-1760824800@zebulagolfestate.co.za
SUMMARY:Guitarist Meyer Geldenhuis
DESCRIPTION:We’re thrilled to welcome Meyer Geldenhuys\, a true master on the guitar whose voice will have you swearing Rod Stewart just walked onto the deck. Expect classic rock riffs\, smooth vocals\, and that unmistakable festival vibe. \nSharing the stage is Zebula’s very own Valepi\, bringing his infectious energy and a crowd-favourite mix of popular hits that always get guests on their feet. \n🎶 Good music\, great beer\, and the best Bushveld atmosphere — that’s what Saturdays at Zebula are made of.
URL:https://zebulagolfestate.co.za/event/meyer/
LOCATION:Zebula Club House\, Zebula Golf Estate and Spa\, Bela Bela\, 0480\, South Africa
CATEGORIES:Activities,Music
ATTACH;FMTTYPE=image/jpeg:https://zebulagolfestate.co.za/wp-content/uploads/2025/10/MEYER.jpg
ORGANIZER;CN="Zebula Reservations":MAILTO:reservations@zebula.co.za
END:VEVENT
BEGIN:VEVENT
DTSTART;TZID=Africa/Johannesburg:20251031T080000
DTEND;TZID=Africa/Johannesburg:20251102T130000
DTSTAMP:20260426T053331
CREATED:20251028T164833Z
LAST-MODIFIED:20251028T164833Z
UID:90632-1761897600-1762088400@zebulagolfestate.co.za
SUMMARY:Weekend activities: 31 October - 02 November 2025
DESCRIPTION:31 October 2025 \n15:00 MULLIGANS BAR\nBeat the Pro \n16:00 JNR RANGERS\nBalloon Race \n17:00 JNR MASTER CHEF\nKids Pizza Making \n18:00 GOLF ACADAMY \nFree Chipping Class \n19:00 MULLIGANS BAR \nNight Shootout \n20:00  MULLIGANS BAR\nKaraoke \n\n01 November 2025 \n09:00 JNR RANGERS \nKids Game Walk- Meet at\nAdventures & Activity Centre \n10:00 GOLF ACADAMY\nChipping Lesson – Meet at\nthe Pro Shop \n11:00 JNR GAME RANGER\nAnimal/Bird/Plant Identification \n12:00 JNR GAME RANGER\nBokdrol spoeg – meet\nat the Adventure & Activity Centre \n13:00 JNR RANGERS\nSoccer Competition \n14:00  MULLIGANS BAR\nGeneral Knowledge Quiz \n15:00 MULLIGANS BAR\nFree Putting Class\n \n16:00 GOLF ACADAMY\nBeat the Pro \n17:00 JNR MASTER CHEF\nKids Pizza Making \n18:00 MULLIGANS BAR\nLongest drive competition \n 19:00 MULLIGANS BAR\n Night Putt Putt \n 20:00  MULLIGANS BAR\nKaraoke \n\n02 November 2025 \n09:00 JNR RANGERS \nKids Game Walk- Meet at\nAdventures & Activity Centre \n10:00 GOLF ACADAMY\nBunker – Meet at the Pro Shop \n11:00 JNR GAME RANGER\nFind the Birds \n12:00 Sunday Lunch\nJoin Us  lunch at the Terrace Restaurant\nPizza Special only R189 for two pizzas \n 
URL:https://zebulagolfestate.co.za/event/weekend-activities-31-october-02-november-2025/
LOCATION:Zebula Club House\, Zebula Golf Estate and Spa\, Bela Bela\, 0480\, South Africa
CATEGORIES:Activities
ATTACH;FMTTYPE=image/jpeg:https://zebulagolfestate.co.za/wp-content/uploads/2024/05/MixCollage-29-Aug-2024-04-01-PM-7597-scaled.jpg
END:VEVENT
BEGIN:VEVENT
DTSTART;TZID=Africa/Johannesburg:20251031T140000
DTEND;TZID=Africa/Johannesburg:20251101T220000
DTSTAMP:20260426T053331
CREATED:20251021T143612Z
LAST-MODIFIED:20251021T143612Z
UID:90583-1761919200-1762034400@zebulagolfestate.co.za
SUMMARY:Singer Songwriter Alouise
DESCRIPTION:This Weekend at The Mulligan: Alouise Live! \n\n\nGet ready for an unforgettable experience as the incredibly talented Alouise takes the stage at The Mulligan\, Zebula Clubhouse this weekend! \n\n\n Who is Alouise?\n\n\nA multi-instrumentalist with 20 years of music teaching experience.\nPlays guitar\, bass\, drums\, sings\, and dabbles in music production and songwriting.\nCurrently the bassist for multi-platinum Afrikaans superstar\, Bok van Blerk.\nA seasoned performer who has graced South Africa’s biggest stages and worked with top local and international artists.
URL:https://zebulagolfestate.co.za/event/singer-songwriter-alouise-7/
LOCATION:Zebula Club House\, Zebula Golf Estate and Spa\, Bela Bela\, 0480\, South Africa
CATEGORIES:Activities,Music
ATTACH;FMTTYPE=image/jpeg:https://zebulagolfestate.co.za/wp-content/uploads/2025/01/Alouise.jpg
ORGANIZER;CN="Zebula Reservations":MAILTO:reservations@zebula.co.za
END:VEVENT
BEGIN:VEVENT
DTSTART;TZID=Africa/Johannesburg:20251107T080000
DTEND;TZID=Africa/Johannesburg:20251109T130000
DTSTAMP:20260426T053331
CREATED:20251031T074748Z
LAST-MODIFIED:20251031T074748Z
UID:90651-1762502400-1762693200@zebulagolfestate.co.za
SUMMARY:Weekend activities:  07 -09 November 2025
DESCRIPTION:07 November 2025 \n15:00 MULLIGANS BAR\nBeat the Pro \n16:00 JNR RANGERS\nBalloon Race \n17:00 JNR MASTER CHEF\nKids Pizza Making \n18:00 GOLF ACADAMY \nFree Chipping Class \n19:00 MULLIGANS BAR \nNight Shootout \n20:00  MULLIGANS BAR\nKaraoke \n\n08 November 2025 \n09:00 JNR RANGERS \nKids Game Walk- Meet at\nAdventures & Activity Centre \n10:00 GOLF ACADAMY\nChipping Lesson – Meet at\nthe Pro Shop \n11:00 JNR GAME RANGER\nAnimal/Bird/Plant Identification \n12:00 JNR GAME RANGER\nBokdrol spoeg – meet\nat the Adventure & Activity Centre \n13:00 JNR RANGERS\nSoccer Competition \n14:00  MULLIGANS BAR\nGeneral Knowledge Quiz \n15:00 MULLIGANS BAR\nFree Putting Class\n \n16:00 GOLF ACADAMY\nBeat the Pro \n17:00 JNR MASTER CHEF\nKids Pizza Making \n18:00 MULLIGANS BAR\nLongest drive competition \n 19:00 MULLIGANS BAR\n Night Putt Putt \n 20:00  MULLIGANS BAR\nKaraoke \n\n09 November 2025 \n09:00 JNR RANGERS \nKids Game Walk- Meet at\nAdventures & Activity Centre \n10:00 GOLF ACADAMY\nBunker – Meet at the Pro Shop \n11:00 JNR GAME RANGER\nFind the Birds \n12:00 Sunday Lunch\nJoin Us  lunch at the Terrace Restaurant\nPizza Special only R189 for two pizzas \n 
URL:https://zebulagolfestate.co.za/event/weekend-activities-07-09-november-2025/
LOCATION:Zebula Club House\, Zebula Golf Estate and Spa\, Bela Bela\, 0480\, South Africa
CATEGORIES:Activities
ATTACH;FMTTYPE=image/jpeg:https://zebulagolfestate.co.za/wp-content/uploads/2024/05/MixCollage-29-Aug-2024-04-01-PM-7597-scaled.jpg
END:VEVENT
BEGIN:VEVENT
DTSTART;TZID=Africa/Johannesburg:20251114T080000
DTEND;TZID=Africa/Johannesburg:20251116T130000
DTSTAMP:20260426T053331
CREATED:20251031T075020Z
LAST-MODIFIED:20251031T075020Z
UID:90654-1763107200-1763298000@zebulagolfestate.co.za
SUMMARY:Weekend activities:  14 -16 November 2025
DESCRIPTION:14 November 2025 \n15:00 MULLIGANS BAR\nBeat the Pro \n16:00 JNR RANGERS\nBalloon Race \n17:00 JNR MASTER CHEF\nKids Pizza Making \n18:00 GOLF ACADAMY \nFree Chipping Class \n19:00 MULLIGANS BAR \nNight Shootout \n20:00  MULLIGANS BAR\nKaraoke \n\n15 November 2025 \n09:00 JNR RANGERS \nKids Game Walk- Meet at\nAdventures & Activity Centre \n10:00 GOLF ACADAMY\nChipping Lesson – Meet at\nthe Pro Shop \n11:00 JNR GAME RANGER\nAnimal/Bird/Plant Identification \n12:00 JNR GAME RANGER\nBokdrol spoeg – meet\nat the Adventure & Activity Centre \n13:00 JNR RANGERS\nSoccer Competition \n14:00  MULLIGANS BAR\nGeneral Knowledge Quiz \n15:00 MULLIGANS BAR\nFree Putting Class\n \n16:00 GOLF ACADAMY\nBeat the Pro \n17:00 JNR MASTER CHEF\nKids Pizza Making \n18:00 MULLIGANS BAR\nLongest drive competition \n 19:00 MULLIGANS BAR\n Night Putt Putt \n 20:00  MULLIGANS BAR\nKaraoke \n\n16 November 2025 \n09:00 JNR RANGERS \nKids Game Walk- Meet at\nAdventures & Activity Centre \n10:00 GOLF ACADAMY\nBunker – Meet at the Pro Shop \n11:00 JNR GAME RANGER\nFind the Birds \n12:00 Sunday Lunch\nJoin Us  lunch at the Terrace Restaurant\nPizza Special only R189 for two pizzas \n 
URL:https://zebulagolfestate.co.za/event/weekend-activities-14-16-november-2025/
LOCATION:Zebula Club House\, Zebula Golf Estate and Spa\, Bela Bela\, 0480\, South Africa
CATEGORIES:Activities
ATTACH;FMTTYPE=image/jpeg:https://zebulagolfestate.co.za/wp-content/uploads/2024/05/MixCollage-29-Aug-2024-04-01-PM-7597-scaled.jpg
END:VEVENT
BEGIN:VEVENT
DTSTART;TZID=Africa/Johannesburg:20251121T080000
DTEND;TZID=Africa/Johannesburg:20251123T130000
DTSTAMP:20260426T053331
CREATED:20251031T075209Z
LAST-MODIFIED:20251031T075209Z
UID:90656-1763712000-1763902800@zebulagolfestate.co.za
SUMMARY:Weekend activities:  21 -23 November 2025
DESCRIPTION:21 November 2025 \n15:00 MULLIGANS BAR\nBeat the Pro \n16:00 JNR RANGERS\nBalloon Race \n17:00 JNR MASTER CHEF\nKids Pizza Making \n18:00 GOLF ACADAMY \nFree Chipping Class \n19:00 MULLIGANS BAR \nNight Shootout \n20:00  MULLIGANS BAR\nKaraoke \n\n22 November 2025 \n09:00 JNR RANGERS \nKids Game Walk- Meet at\nAdventures & Activity Centre \n10:00 GOLF ACADAMY\nChipping Lesson – Meet at\nthe Pro Shop \n11:00 JNR GAME RANGER\nAnimal/Bird/Plant Identification \n12:00 JNR GAME RANGER\nBokdrol spoeg – meet\nat the Adventure & Activity Centre \n13:00 JNR RANGERS\nSoccer Competition \n14:00  MULLIGANS BAR\nGeneral Knowledge Quiz \n15:00 MULLIGANS BAR\nFree Putting Class\n \n16:00 GOLF ACADAMY\nBeat the Pro \n17:00 JNR MASTER CHEF\nKids Pizza Making \n18:00 MULLIGANS BAR\nLongest drive competition \n 19:00 MULLIGANS BAR\n Night Putt Putt \n 20:00  MULLIGANS BAR\nKaraoke \n\n23 November 2025 \n09:00 JNR RANGERS \nKids Game Walk- Meet at\nAdventures & Activity Centre \n10:00 GOLF ACADAMY\nBunker – Meet at the Pro Shop \n11:00 JNR GAME RANGER\nFind the Birds \n12:00 Sunday Lunch\nJoin Us  lunch at the Terrace Restaurant\nPizza Special only R189 for two pizzas \n 
URL:https://zebulagolfestate.co.za/event/weekend-activities-21-23-november-2025/
LOCATION:Zebula Club House\, Zebula Golf Estate and Spa\, Bela Bela\, 0480\, South Africa
CATEGORIES:Activities
ATTACH;FMTTYPE=image/jpeg:https://zebulagolfestate.co.za/wp-content/uploads/2024/05/MixCollage-29-Aug-2024-04-01-PM-7597-scaled.jpg
END:VEVENT
BEGIN:VEVENT
DTSTART;TZID=Africa/Johannesburg:20251122T194000
DTEND;TZID=Africa/Johannesburg:20251122T230000
DTSTAMP:20260426T053331
CREATED:20251122T063634Z
LAST-MODIFIED:20251122T063634Z
UID:90865-1763840400-1763852400@zebulagolfestate.co.za
SUMMARY:Springboks vs Ireland At The Mulligan
DESCRIPTION:Only at Zebula can you cheer for the Springboks… inside an Irish bar… and somehow it just works.\n\n\nThis Saturday\, 22 November at 19:40\, The Mulligan becomes the most entertaining identity crisis in the Bushveld — Irish décor\, South African passion\, and rugby fans shouting “Bokke!” loud enough to confuse the shamrocks on the walls.\n\n\nExpect big-screen action\, ice-cold drinks\, and that classic Mulligan chaos we all love.\nWear your green and gold\, order something Irish\, and let’s show Ireland how loud a Bushveld Bok supporter can be.\n\n\nSee you Saturday night for the Springboks vs Ireland showdown!\n.\n.
URL:https://zebulagolfestate.co.za/event/springboks-vs-ireland-at-the-mulligan/
LOCATION:Zebula Club House\, Zebula Golf Estate and Spa\, Bela Bela\, 0480\, South Africa
CATEGORIES:Activities,Weekend
ATTACH;FMTTYPE=image/jpeg:https://zebulagolfestate.co.za/wp-content/uploads/2025/11/SPRINGBOKS-scaled.jpg
ORGANIZER;CN="Zebula Conferencing":MAILTO:conferencing@zebula.co.za
END:VEVENT
BEGIN:VEVENT
DTSTART;TZID=Africa/Johannesburg:20251212T080000
DTEND;TZID=Africa/Johannesburg:20260104T130000
DTSTAMP:20260426T053331
CREATED:20251125T064617Z
LAST-MODIFIED:20251215T104019Z
UID:90907-1765526400-1767531600@zebulagolfestate.co.za
SUMMARY:December Things to Do:  12 December - 04 January 2026
DESCRIPTION:
URL:https://zebulagolfestate.co.za/event/weekend/
LOCATION:Zebula Club House\, Zebula Golf Estate and Spa\, Bela Bela\, 0480\, South Africa
CATEGORIES:Activities
ATTACH;FMTTYPE=image/jpeg:https://zebulagolfestate.co.za/wp-content/uploads/2024/05/MixCollage-29-Aug-2024-04-01-PM-7597-scaled.jpg
END:VEVENT
END:VCALENDAR