BEGIN:VCALENDAR
VERSION:2.0
PRODID:-//Zebula Golf Estate &amp; Spa - ECPv6.5.1.3//NONSGML v1.0//EN
CALSCALE:GREGORIAN
METHOD:PUBLISH
X-WR-CALNAME:Zebula Golf Estate &amp; Spa
X-ORIGINAL-URL:https://zebulagolfestate.co.za
X-WR-CALDESC:Events for Zebula Golf Estate &amp; Spa
REFRESH-INTERVAL;VALUE=DURATION:PT1H
X-Robots-Tag:noindex
X-PUBLISHED-TTL:PT1H
BEGIN:VTIMEZONE
TZID:Africa/Johannesburg
BEGIN:STANDARD
TZOFFSETFROM:+0200
TZOFFSETTO:+0200
TZNAME:SAST
DTSTART:20260101T000000
END:STANDARD
END:VTIMEZONE
BEGIN:VEVENT
DTSTART;TZID=Africa/Johannesburg:20260402T080000
DTEND;TZID=Africa/Johannesburg:20260406T170000
DTSTAMP:20260421T150422
CREATED:20260322T092852Z
LAST-MODIFIED:20260330T113825Z
UID:92319-1775116800-1775494800@zebulagolfestate.co.za
SUMMARY:Easter Weekend Activities 2026
DESCRIPTION:🐰 Easter Weekend at Zebula (2–6 April 2026)\nCelebrate Easter the Zebula way\, where the Bushveld becomes the perfect playground for families. Our Easter entertainment programme is packed with activities for all ages — from adventurous Junior Rangers experiences to fun competitions at Mulligans and delicious treats from our Junior Master Chefs. \nLittle explorers can enjoy game walks\, archery\, quad bike rides\, bird spotting\, and even traditional bokdrol spoeg\, while creative young chefs decorate cupcakes and make their own pizzas. The Easter Bunny will be hopping around the estate with games like “Catch the Bunny” and the ever-popular Easter Egg Hunt\, guaranteed to bring smiles and a basket full of treats. \nGolf lovers can also join in the fun with putt-putt competitions\, chipping challenges\, Beat the Pro sessions\, and night golf at the Golf Academy — perfect for some friendly Bushveld competition. \nAs the sun sets\, the excitement continues at Mulligans Bar\, where guests can enjoy quizzes\, karaoke\, night putting\, live entertainment and plenty of laughs with family and friends. \nThe highlight of the weekend is our Easter Sunday Lunch at The Terrace Restaurant\, the perfect opportunity to gather around the table and celebrate the spirit of Easter together. \nDOWNLOAD THE COMPLETE EASTER WEEKEND PROGRAM \n\n✨ Whether you’re hunting for Easter eggs\, teeing off on the golf course\, or simply relaxing with family in the Bushveld\, Zebula promises an Easter weekend filled with laughter\, adventure\, and unforgettable moments. \n📍 Zebula Golf Estate & Spa📅 2 – 6 April 2026
URL:https://zebulagolfestate.co.za/event/easter-weekend-activities-2026/
LOCATION:Zebula Club House\, Zebula Golf Estate and Spa\, Bela Bela\, 0480\, South Africa
CATEGORIES:Easter
ATTACH;FMTTYPE=image/png:https://zebulagolfestate.co.za/wp-content/uploads/2026/03/ChatGPT-Image-Mar-22-2026-at-09_54_14-AM.png
ORGANIZER;CN="Zebula Conferencing":MAILTO:conferencing@zebula.co.za
END:VEVENT
BEGIN:VEVENT
DTSTART;TZID=Africa/Johannesburg:20260405T120000
DTEND;TZID=Africa/Johannesburg:20260405T150000
DTSTAMP:20260421T150422
CREATED:20260219T084154Z
LAST-MODIFIED:20260405T072113Z
UID:92054-1775390400-1775401200@zebulagolfestate.co.za
SUMMARY:Sunday Easter Lunch at Zebula Golf Estate and Spa
DESCRIPTION:This Easter\, indulge in a feast like no other at Zebula Golf Estate and Spa! Celebrate the season with a spectacular Sunday lunch that will delight your taste buds and create unforgettable moments with loved ones. \n🌟 Start your journey of flavors with: \n\nWarm\, gooey Baked Camembert\, drizzled with cranberry and rooibos glaze.\nTender Pulled Pork Canapés nestled in buttery brioche buns with zesty apple slaw.\nMini Cape Malay Bobotie Bites\, rich and flavorful with a touch of sweet chutney.\n\n🥗 Freshen up your plate at the Build-Your-Own Salad Station\, or dive into irresistible creations like: \n\nPear\, Walnut & Blue Cheese Salad\, perfectly drizzled with honey dressing.\nCreamy Biltong Potato Salad\, with premium South African flavors.\n\n🍖 Savor the centerpiece with: \n\nSucculent Slow-Cooked Lamb Shoulder paired with traditional mint sauce.\nJuicy\, melt-in-your-mouth Roast Beef served with velvety gravy.\nGolden\, crispy Roast Chicken\, seasoned with fragrant lemon and herbs.\n\n🍽️ Dive into decadent mains like: \n\nOven-baked Chicken Breast with Ricotta & Capers\, oozing with creamy goodness.\nGrilled Cape Yellowtail\, kissed by the grill and dressed with zesty lemon and herbs.\n\n🍬 Finish with a sweet symphony of: \n\nDecadent Milk Tart Mousse\, a heavenly twist on a South African classic.\nWarm\, indulgent Malva Pudding\, drenched in Amarula custard.\nLight\, crispy Pavlova\, topped with fresh seasonal fruits and whipped cream.\n\n📅 Date: Easter Sunday\n💵 Price: R380.00 (Adults)\, R200.00 (Kids)\, and Kids under 3 eat free!\n📍 Venue: Zebula Golf Estate and Spa \nMake your Easter celebration extraordinary. Book your table online today and savor every mouthwatering moment. 🌸🍴🐣 \nDon’t just eat – indulge\, delight\, and celebrate with us!
URL:https://zebulagolfestate.co.za/event/sunday-easter-lunch-at-zebula-golf-estate-and-spa-2/
LOCATION:Zebula Club House\, Zebula Golf Estate and Spa\, Bela Bela\, 0480\, South Africa
CATEGORIES:Easter
ATTACH;FMTTYPE=image/png:https://zebulagolfestate.co.za/wp-content/uploads/2026/02/Brown-and-Gold-Simple-Happy-Easter-Day-Banner.png
ORGANIZER;CN="Zebula Reservations":MAILTO:reservations@zebula.co.za
END:VEVENT
END:VCALENDAR