BEGIN:VCALENDAR
VERSION:2.0
PRODID:-//Zebula Golf Estate &amp; Spa - ECPv6.5.1.3//NONSGML v1.0//EN
CALSCALE:GREGORIAN
METHOD:PUBLISH
X-WR-CALNAME:Zebula Golf Estate &amp; Spa
X-ORIGINAL-URL:https://zebulagolfestate.co.za
X-WR-CALDESC:Events for Zebula Golf Estate &amp; Spa
REFRESH-INTERVAL;VALUE=DURATION:PT1H
X-Robots-Tag:noindex
X-PUBLISHED-TTL:PT1H
BEGIN:VTIMEZONE
TZID:Africa/Johannesburg
BEGIN:STANDARD
TZOFFSETFROM:+0200
TZOFFSETTO:+0200
TZNAME:SAST
DTSTART:20260101T000000
END:STANDARD
END:VTIMEZONE
BEGIN:VEVENT
DTSTART;TZID=Africa/Johannesburg:20260424T080000
DTEND;TZID=Africa/Johannesburg:20260427T170000
DTSTAMP:20260421T223614
CREATED:20260421T143217Z
LAST-MODIFIED:20260421T151207Z
UID:92540-1777017600-1777309200@zebulagolfestate.co.za
SUMMARY:FREEDOM DAY Weekend Activities 2026
DESCRIPTION:🐰 Freedom Day Long Weekend at Zebula (20–27 April 2026)\nFreedom Day Weekend at Zebula Golf Estate & Spa is all about family fun\, great company\, and unforgettable Bushveld moments. From golf challenges and kids’ adventures to movie nights\, quizzes\, and live entertainment at The Mulligan\, we’ve packed the weekend with activities for guests of all ages. \nWhether you’re joining the Junior Rangers\, testing your skills at the Golf Academy\, meeting Zebu the Zebra\, or enjoying an evening of karaoke and night golf\, there’s something happening throughout the estate from morning until night. \nTake a look at the full programme below and start planning your Freedom Day weekend at Zebula. 🇿🇦 \n\nFRIDAY 24 APRIL 2026\n09:00 GOLF ACADAMY \nLong Game Lessons – meet at the Zebula Proshop \n10:00 JNR RANGERS \nKiddies Archery – Meet at Adventures & Activity Centre \n11:00 MULLIGANS BAR \nMeet the Zebula Mascot called Zebu \n12:00 GOLF ACADAMY \nPutt Putt Competition – meet at the Zebula Proshop \n13:00 JNR MASTER CHEF \nCupcake decorating – meet at La Trattoria \n14:00 JUNIOR RANGERS \nArchery. \n15:00 MULLIGANS BAR \nBeat the Pro \n16:00 MULLIGANS BAR \nPutt Putt with Zebu \n17:00 JNR MASTER CHEF \nKids Pizza Making \n18:00 GOLF ACADAMY \n8th Hole Challenge \n19:00 KIDS MOVIE NIGHT \nMeet at Clubhouse \n20:00 MULLIGANS BAR \nKaraoke \n\n\nSATURDAY 25 APRIL 2026\n09:00 JNR RANGERS \nKids Game Walk- Meet at Adventures & Activity Centre \n10:00 GOLF ACADAMY \nChipping Lesson – Meet at the Pro Shop \n11:00 JNR GAME RANGER \nAnimal/Bird/Plant Identification \n12:00 JNIOR RANGERS \nArchery. Shoot to win a Easter egg \n13:00 MULLIGANS BAR \nMeet Zebu the Zebula Golf Estate Mascot \n14:00 MULLIGANS BAR \nGeneral Knowledge Quiz \n15:00 MULLIGANS BAR \nBeat the Pro \n16:00 JNR RANGERS \nKids Quad Bike Ride \n17:00 GOLF ACADAMY \nPutt Putt Competition \n18:00 MOVIE NIGHT \nMeet at the Clubhouse \n20:00 MULLIGANS BAR \nKaraoke \n\nSUNDAY 26 APRIL 2027\n09:00 SPORT CENTER \nKids Jumping and Basket Ball- Meet at Adventures & Activity Centre \n10:00 SPORT CENTER \nClimbing Wall Competition – at Main Swimming Pool \n11:00 JNR GAME RANGER \nBokdrol spoeg – meet at the Adventure & Activity Centre \n12:00 JNR GAME RANGER \nKids Quad Bike Ride – meet at the Adventure & Activity Centre \n13:00 JNR MASTER CHEF \nKids Pizza Making \n14:00 MULLIGANS BAR \nCatch Zebu our mascot \n15:00 MULLIGANS BAR \nBeat the Pro \n16:00 MULLIGANS BAR \nPutt Putt \n17:00 MULLIGANS BAR \nGeneral Knowledge Quiz \n18:00 GOLF ACADAMY \nLongest Hole \n19:00 MULLIGANS BAR \nNight Golf \n20:00 MULLIGANS \nKaraoke \n\n  \nMONDAY 27 APRIL 2026\n09:00 JNR RANGERS \nKids Game Walk- Meet at Adventures & Activity Centre \n10:00 GOLF ACADAMY \nBunker – Meet at the Pro Shop \n11:00 JNR GAME RANGER \nFind the Birds \n12:00 JUNIOR RANGERS \nArchery. Shoot to win a Easter egg \n13:00 MULLIGANS BAR \nGeneral Knowledge Quiz \n14:00 MULLIGANS BAR Catch Zebu \n15:00 MULLIGANS BAR \nChipping Competition \n16:00 MULLIGANS BAR \nEaster Egg Hunt \n 17:00 GOLF ACADAMY \n Putt Lesson \n 18:00 JNR MASTER CHEF \n Kids Pizza Making \n1 19:00 MULLIGANS BAR \n Night Chipping \n 20:00 MULLIGANS BAR \n Karaoke \n 
URL:https://zebulagolfestate.co.za/event/freedom-day/
LOCATION:Zebula Club House\, Zebula Golf Estate and Spa\, Bela Bela\, 0480\, South Africa
CATEGORIES:Easter
ATTACH;FMTTYPE=image/png:https://zebulagolfestate.co.za/wp-content/uploads/2026/04/ChatGPT-Image-Apr-21-2026-at-04_36_21-PM.png
ORGANIZER;CN="Zebula Conferencing":MAILTO:conferencing@zebula.co.za
END:VEVENT
END:VCALENDAR