BEGIN:VCALENDAR
VERSION:2.0
PRODID:-//Zebula Golf Estate &amp; Spa - ECPv6.5.1.3//NONSGML v1.0//EN
CALSCALE:GREGORIAN
METHOD:PUBLISH
X-WR-CALNAME:Zebula Golf Estate &amp; Spa
X-ORIGINAL-URL:https://zebulagolfestate.co.za
X-WR-CALDESC:Events for Zebula Golf Estate &amp; Spa
REFRESH-INTERVAL;VALUE=DURATION:PT1H
X-Robots-Tag:noindex
X-PUBLISHED-TTL:PT1H
BEGIN:VTIMEZONE
TZID:Africa/Johannesburg
BEGIN:STANDARD
TZOFFSETFROM:+0200
TZOFFSETTO:+0200
TZNAME:SAST
DTSTART:20250101T000000
END:STANDARD
END:VTIMEZONE
BEGIN:VEVENT
DTSTART;TZID=Africa/Johannesburg:20251231T190000
DTEND;TZID=Africa/Johannesburg:20260101T010000
DTSTAMP:20260424T163711
CREATED:20250703T104358Z
LAST-MODIFIED:20251231T124602Z
UID:85979-1767207600-1767229200@zebulagolfestate.co.za
SUMMARY:New Years Eve Party
DESCRIPTION:Welcome 2026 with a truly unforgettable Bushveld New Year’s Celebration at Zebula! \nCreate your perfect New Year’s Eve with The Full Bushveld Experience (R350 per person) — a relaxed Potjie Braaiat the braai area beside The Mulligan\, followed by entry to The Mulligan’s New Year’s Party. \nExpect crackling fires\, hearty flavours\, music\, laughter\, and a magical Bushveld countdown — plus a complimentary glass of bubbly to toast the moment. \nA warm\, memorable way to say goodbye to 2025 and welcome 2026 in true Zebula style. 🥂
URL:https://zebulagolfestate.co.za/event/new-years-eve-party/
LOCATION:Zebula Club House\, Zebula Golf Estate and Spa\, Bela Bela\, 0480\, South Africa
CATEGORIES:Festive Season
ATTACH;FMTTYPE=image/jpeg:https://zebulagolfestate.co.za/wp-content/uploads/2025/07/HAPPY-NEW-YEAR.jpg
ORGANIZER;CN="Zebula Reservations":MAILTO:reservations@zebula.co.za
END:VEVENT
END:VCALENDAR