BEGIN:VCALENDAR
VERSION:2.0
PRODID:-//Zebula Golf Estate &amp; Spa - ECPv6.5.1.3//NONSGML v1.0//EN
CALSCALE:GREGORIAN
METHOD:PUBLISH
X-WR-CALNAME:Zebula Golf Estate &amp; Spa
X-ORIGINAL-URL:https://zebulagolfestate.co.za
X-WR-CALDESC:Events for Zebula Golf Estate &amp; Spa
REFRESH-INTERVAL;VALUE=DURATION:PT1H
X-Robots-Tag:noindex
X-PUBLISHED-TTL:PT1H
BEGIN:VTIMEZONE
TZID:Africa/Johannesburg
BEGIN:STANDARD
TZOFFSETFROM:+0200
TZOFFSETTO:+0200
TZNAME:SAST
DTSTART:20250101T000000
END:STANDARD
END:VTIMEZONE
BEGIN:VEVENT
DTSTART;TZID=Africa/Johannesburg:20251003T153000
DTEND;TZID=Africa/Johannesburg:20251004T130000
DTSTAMP:20260425T023149
CREATED:20250727T104003Z
LAST-MODIFIED:20250727T104003Z
UID:87131-1759505400-1759582800@zebulagolfestate.co.za
SUMMARY:CLINTON VILJOEN
DESCRIPTION:🎶 Live Music with Clinton Viljoen at the Zebula Clubhouse🗓️ 3 & 4 October \nJoin us for some unforgettable live music as the incredibly talented Clinton Viljoen takes the stage at the Zebula Clubhouse. \nKnown for his soulful melodies\, masterful arrangements\, and boundless musical talent\, Clinton brings a rich and dynamic performance that resonates with audiences of all ages. Whether he’s behind the mic\, on the keys\, or crafting harmonies\, his passion for music is undeniable. \nKick back\, relax\, and enjoy the vibrant Bushveld atmosphere with great food\, refreshing drinks\, and the sounds of a rising star. \nNo cover charge | Walk-ins welcome
URL:https://zebulagolfestate.co.za/event/clinton-viljoen-7/
LOCATION:Zebula Club House\, Zebula Golf Estate and Spa\, Bela Bela\, 0480\, South Africa
CATEGORIES:Music
ATTACH;FMTTYPE=image/jpeg:https://zebulagolfestate.co.za/wp-content/uploads/2025/07/1196694000008111004_zc_v1_1752670353750_clinton_mailer.jpg
ORGANIZER;CN="Zebula Conferencing":MAILTO:conferencing@zebula.co.za
END:VEVENT
BEGIN:VEVENT
DTSTART;TZID=Africa/Johannesburg:20251010T140000
DTEND;TZID=Africa/Johannesburg:20251011T220000
DTSTAMP:20260425T023149
CREATED:20251010T054854Z
LAST-MODIFIED:20251010T054854Z
UID:90308-1760104800-1760220000@zebulagolfestate.co.za
SUMMARY:Singer Songwriter Alouise
DESCRIPTION:This Weekend at The Mulligan: Alouise Live! \n\n\nGet ready for an unforgettable experience as the incredibly talented Alouise takes the stage at The Mulligan\, Zebula Clubhouse this weekend! \n\n\n Who is Alouise?\n\n\nA multi-instrumentalist with 20 years of music teaching experience.\nPlays guitar\, bass\, drums\, sings\, and dabbles in music production and songwriting.\nCurrently the bassist for multi-platinum Afrikaans superstar\, Bok van Blerk.\nA seasoned performer who has graced South Africa’s biggest stages and worked with top local and international artists.
URL:https://zebulagolfestate.co.za/event/singer-songwriter-alouise-6/
LOCATION:Zebula Club House\, Zebula Golf Estate and Spa\, Bela Bela\, 0480\, South Africa
CATEGORIES:Activities,Music
ATTACH;FMTTYPE=image/jpeg:https://zebulagolfestate.co.za/wp-content/uploads/2025/01/Alouise.jpg
ORGANIZER;CN="Zebula Reservations":MAILTO:reservations@zebula.co.za
END:VEVENT
BEGIN:VEVENT
DTSTART;TZID=Africa/Johannesburg:20251018T110000
DTEND;TZID=Africa/Johannesburg:20251018T210000
DTSTAMP:20260425T023149
CREATED:20250513T124623Z
LAST-MODIFIED:20250520T142904Z
UID:84040-1760785200-1760821200@zebulagolfestate.co.za
SUMMARY:OKTOBERFEST 2025
DESCRIPTION:Dust off your lederhosen and get ready to Prost!Join us for a festive day of Bavarian-inspired cheer in the Bushveld!We’re serving up ice-cold draughts\, beer specials\, and hearty German favourites like crispy Eisbein\, bratwurst\, and more. \n🎶 Live music throughout the afternoon🍻 Beer buckets & tap takeovers🌭 Traditional Oktoberfest eats🕺 Lawn games & good vibes all round \nWhether you’re a beer lover\, foodie\, or just in it for the fun — this is a day out you don’t want to miss! \nFREE ENTRY | Family friendly | Food & drinks available for purchase📍 At The Clubhouse Deck | ⏰ From 12:00 till late \nLet’s raise a glass to good friends\, great flavours\, and golden sunsets!
URL:https://zebulagolfestate.co.za/event/oktoberfest-2025/
LOCATION:Zebula Conference Centre\, FARM NO 534 KQ\, D1000\, MABULA DISTRICT\, Bela-Bela\, Limpopo\, 0480\, South Africa
CATEGORIES:Music,Weekend
ATTACH;FMTTYPE=image/jpeg:https://zebulagolfestate.co.za/wp-content/uploads/2025/05/OCTOBER-FEST-1-copy.jpg
ORGANIZER;CN="Zebula Conferencing":MAILTO:conferencing@zebula.co.za
END:VEVENT
BEGIN:VEVENT
DTSTART;TZID=Africa/Johannesburg:20251018T110000
DTEND;TZID=Africa/Johannesburg:20251018T220000
DTSTAMP:20260425T023149
CREATED:20251016T063447Z
LAST-MODIFIED:20251016T063447Z
UID:90467-1760785200-1760824800@zebulagolfestate.co.za
SUMMARY:Guitarist Meyer Geldenhuis
DESCRIPTION:We’re thrilled to welcome Meyer Geldenhuys\, a true master on the guitar whose voice will have you swearing Rod Stewart just walked onto the deck. Expect classic rock riffs\, smooth vocals\, and that unmistakable festival vibe. \nSharing the stage is Zebula’s very own Valepi\, bringing his infectious energy and a crowd-favourite mix of popular hits that always get guests on their feet. \n🎶 Good music\, great beer\, and the best Bushveld atmosphere — that’s what Saturdays at Zebula are made of.
URL:https://zebulagolfestate.co.za/event/meyer/
LOCATION:Zebula Club House\, Zebula Golf Estate and Spa\, Bela Bela\, 0480\, South Africa
CATEGORIES:Activities,Music
ATTACH;FMTTYPE=image/jpeg:https://zebulagolfestate.co.za/wp-content/uploads/2025/10/MEYER.jpg
ORGANIZER;CN="Zebula Reservations":MAILTO:reservations@zebula.co.za
END:VEVENT
BEGIN:VEVENT
DTSTART;TZID=Africa/Johannesburg:20251031T140000
DTEND;TZID=Africa/Johannesburg:20251101T220000
DTSTAMP:20260425T023150
CREATED:20251021T143612Z
LAST-MODIFIED:20251021T143612Z
UID:90583-1761919200-1762034400@zebulagolfestate.co.za
SUMMARY:Singer Songwriter Alouise
DESCRIPTION:This Weekend at The Mulligan: Alouise Live! \n\n\nGet ready for an unforgettable experience as the incredibly talented Alouise takes the stage at The Mulligan\, Zebula Clubhouse this weekend! \n\n\n Who is Alouise?\n\n\nA multi-instrumentalist with 20 years of music teaching experience.\nPlays guitar\, bass\, drums\, sings\, and dabbles in music production and songwriting.\nCurrently the bassist for multi-platinum Afrikaans superstar\, Bok van Blerk.\nA seasoned performer who has graced South Africa’s biggest stages and worked with top local and international artists.
URL:https://zebulagolfestate.co.za/event/singer-songwriter-alouise-7/
LOCATION:Zebula Club House\, Zebula Golf Estate and Spa\, Bela Bela\, 0480\, South Africa
CATEGORIES:Activities,Music
ATTACH;FMTTYPE=image/jpeg:https://zebulagolfestate.co.za/wp-content/uploads/2025/01/Alouise.jpg
ORGANIZER;CN="Zebula Reservations":MAILTO:reservations@zebula.co.za
END:VEVENT
END:VCALENDAR