BEGIN:VCALENDAR
VERSION:2.0
PRODID:-//Zebula Golf Estate &amp; Spa - ECPv6.5.1.3//NONSGML v1.0//EN
CALSCALE:GREGORIAN
METHOD:PUBLISH
X-ORIGINAL-URL:https://zebulagolfestate.co.za
X-WR-CALDESC:Events for Zebula Golf Estate &amp; Spa
REFRESH-INTERVAL;VALUE=DURATION:PT1H
X-Robots-Tag:noindex
X-PUBLISHED-TTL:PT1H
BEGIN:VTIMEZONE
TZID:Africa/Johannesburg
BEGIN:STANDARD
TZOFFSETFROM:+0200
TZOFFSETTO:+0200
TZNAME:SAST
DTSTART:20250101T000000
END:STANDARD
END:VTIMEZONE
BEGIN:VEVENT
DTSTART;TZID=Africa/Johannesburg:20251031T140000
DTEND;TZID=Africa/Johannesburg:20251101T220000
DTSTAMP:20260424T235704
CREATED:20251021T143612Z
LAST-MODIFIED:20251021T143612Z
UID:90583-1761919200-1762034400@zebulagolfestate.co.za
SUMMARY:Singer Songwriter Alouise
DESCRIPTION:This Weekend at The Mulligan: Alouise Live! \n\n\nGet ready for an unforgettable experience as the incredibly talented Alouise takes the stage at The Mulligan\, Zebula Clubhouse this weekend! \n\n\n Who is Alouise?\n\n\nA multi-instrumentalist with 20 years of music teaching experience.\nPlays guitar\, bass\, drums\, sings\, and dabbles in music production and songwriting.\nCurrently the bassist for multi-platinum Afrikaans superstar\, Bok van Blerk.\nA seasoned performer who has graced South Africa’s biggest stages and worked with top local and international artists.
URL:https://zebulagolfestate.co.za/event/singer-songwriter-alouise-7/
LOCATION:Zebula Club House\, Zebula Golf Estate and Spa\, Bela Bela\, 0480\, South Africa
CATEGORIES:Activities,Music
ATTACH;FMTTYPE=image/jpeg:https://zebulagolfestate.co.za/wp-content/uploads/2025/01/Alouise.jpg
ORGANIZER;CN="Zebula Reservations":MAILTO:reservations@zebula.co.za
END:VEVENT
BEGIN:VEVENT
DTSTART;TZID=Africa/Johannesburg:20251107T153000
DTEND;TZID=Africa/Johannesburg:20251108T130000
DTSTAMP:20260424T235704
CREATED:20250727T104307Z
LAST-MODIFIED:20250727T104307Z
UID:87135-1762529400-1762606800@zebulagolfestate.co.za
SUMMARY:CLINTON VILJOEN
DESCRIPTION:🎶 Live Music with Clinton Viljoen at the Zebula Clubhouse🗓️ 7 & 8 November\nJoin us for some unforgettable live music as the incredibly talented Clinton Viljoen takes the stage at the Zebula Clubhouse. \nKnown for his soulful melodies\, masterful arrangements\, and boundless musical talent\, Clinton brings a rich and dynamic performance that resonates with audiences of all ages. Whether he’s behind the mic\, on the keys\, or crafting harmonies\, his passion for music is undeniable. \nKick back\, relax\, and enjoy the vibrant Bushveld atmosphere with great food\, refreshing drinks\, and the sounds of a rising star. \nNo cover charge | Walk-ins welcome
URL:https://zebulagolfestate.co.za/event/clinton-viljoen-9/
LOCATION:Zebula Club House\, Zebula Golf Estate and Spa\, Bela Bela\, 0480\, South Africa
CATEGORIES:Music
ATTACH;FMTTYPE=image/jpeg:https://zebulagolfestate.co.za/wp-content/uploads/2025/07/1196694000008111004_zc_v1_1752670353750_clinton_mailer.jpg
ORGANIZER;CN="Zebula Conferencing":MAILTO:conferencing@zebula.co.za
END:VEVENT
BEGIN:VEVENT
DTSTART;TZID=Africa/Johannesburg:20251114T153000
DTEND;TZID=Africa/Johannesburg:20251115T170000
DTSTAMP:20260424T235704
CREATED:20251031T075910Z
LAST-MODIFIED:20251031T075910Z
UID:90660-1763134200-1763226000@zebulagolfestate.co.za
SUMMARY:SAVINA - SAX IN THE BUSH
DESCRIPTION:🎷 SAX IN THE BUSH with Savina Popov📍 The Mulligan\, Zebula Clubhouse🗓️  14 – 15 November | From 12:00 PM \nJoin us for a laid-back afternoon of smooth tunes and great vibes at SAX IN THE BUSH\, happening this weekend at The Mulligan\, Zebula’s lively Irish Bar. \nGet ready to be captivated by the soulful sounds of Savina Popov\, the acclaimed saxophonist known for her electrifying performances and rich\, melodic tone. Whether you’re enjoying a cold one\, a hearty meal\, or just soaking up the Bushveld atmosphere\, Sarina’s live saxophone melodies will add the perfect soundtrack to your day. \nNo booking needed – just bring your good mood and enjoy!
URL:https://zebulagolfestate.co.za/event/savina-sax-in-the-bush-2/
LOCATION:Zebula Conference Centre\, FARM NO 534 KQ\, D1000\, MABULA DISTRICT\, Bela-Bela\, Limpopo\, 0480\, South Africa
CATEGORIES:Music
ATTACH;FMTTYPE=image/jpeg:https://zebulagolfestate.co.za/wp-content/uploads/2025/07/SAVINA-e1761897536590.jpg
ORGANIZER;CN="Zebula Conferencing":MAILTO:conferencing@zebula.co.za
END:VEVENT
BEGIN:VEVENT
DTSTART;TZID=Africa/Johannesburg:20251128T153000
DTEND;TZID=Africa/Johannesburg:20251129T130000
DTSTAMP:20260424T235704
CREATED:20250727T104416Z
LAST-MODIFIED:20250727T104416Z
UID:87137-1764343800-1764421200@zebulagolfestate.co.za
SUMMARY:CLINTON VILJOEN
DESCRIPTION:🎶 Live Music with Clinton Viljoen at the Zebula Clubhouse🗓️ 28 & 29 November\nJoin us for some unforgettable live music as the incredibly talented Clinton Viljoen takes the stage at the Zebula Clubhouse. \nKnown for his soulful melodies\, masterful arrangements\, and boundless musical talent\, Clinton brings a rich and dynamic performance that resonates with audiences of all ages. Whether he’s behind the mic\, on the keys\, or crafting harmonies\, his passion for music is undeniable. \nKick back\, relax\, and enjoy the vibrant Bushveld atmosphere with great food\, refreshing drinks\, and the sounds of a rising star. \nNo cover charge | Walk-ins welcome
URL:https://zebulagolfestate.co.za/event/clinton-viljoen-10/
LOCATION:Zebula Club House\, Zebula Golf Estate and Spa\, Bela Bela\, 0480\, South Africa
CATEGORIES:Music
ATTACH;FMTTYPE=image/jpeg:https://zebulagolfestate.co.za/wp-content/uploads/2025/07/1196694000008111004_zc_v1_1752670353750_clinton_mailer.jpg
ORGANIZER;CN="Zebula Conferencing":MAILTO:conferencing@zebula.co.za
END:VEVENT
END:VCALENDAR