BEGIN:VCALENDAR
VERSION:2.0
PRODID:-//Zebula Golf Estate &amp; Spa - ECPv6.5.1.3//NONSGML v1.0//EN
CALSCALE:GREGORIAN
METHOD:PUBLISH
X-ORIGINAL-URL:https://zebulagolfestate.co.za
X-WR-CALDESC:Events for Zebula Golf Estate &amp; Spa
REFRESH-INTERVAL;VALUE=DURATION:PT1H
X-Robots-Tag:noindex
X-PUBLISHED-TTL:PT1H
BEGIN:VTIMEZONE
TZID:Africa/Johannesburg
BEGIN:STANDARD
TZOFFSETFROM:+0200
TZOFFSETTO:+0200
TZNAME:SAST
DTSTART:20250101T000000
END:STANDARD
END:VTIMEZONE
BEGIN:VEVENT
DTSTART;TZID=Africa/Johannesburg:20250418T140000
DTEND;TZID=Africa/Johannesburg:20250420T220000
DTSTAMP:20260425T170657
CREATED:20250115T141722Z
LAST-MODIFIED:20250414T055109Z
UID:78732-1744984800-1745186400@zebulagolfestate.co.za
SUMMARY:Catch Zoë Venter Live at The Mulligan This Weekend!
DESCRIPTION:🎶 Catch Zoë Venter Live at The Mulligan This Weekend! 🎶 \nThis weekend\, immerse yourself in the captivating sounds of Zoë Venter\, a talented singer and multi-instrumentalist who is making waves in the music world. Zoë is a self-taught pianist and guitarist whose soulful melodies and heartfelt lyrics have earned her a dedicated following. \nJoin us at The Mulligan at Zebula Golf Estate and Spa for an unforgettable weekend of live music\, great vibes\, and a warm atmosphere. Whether you’re relaxing after a day on the greens or looking for the perfect way to wind down your weekend\, Zoë’s performance is not to be missed. \n📅 Dates: 18 – 20 April 2025\n📍 Location: The Mulligan\, Zebula Golf Estate and Spa \nBring your friends and family for a memorable musical experience! 🎤🎹🎸
URL:https://zebulagolfestate.co.za/event/catch-zoe-venter-live-at-the-mulligan-this-weekend-3/
LOCATION:Zebula Club House\, Zebula Golf Estate and Spa\, Bela Bela\, 0480\, South Africa
CATEGORIES:Music
ATTACH;FMTTYPE=image/jpeg:https://zebulagolfestate.co.za/wp-content/uploads/2025/01/WhatsApp-Image-2025-04-09-at-20.36.08-1.jpeg
ORGANIZER;CN="Zebula Reservations":MAILTO:reservations@zebula.co.za
END:VEVENT
END:VCALENDAR