BEGIN:VCALENDAR
VERSION:2.0
PRODID:-//Zebula Golf Estate &amp; Spa - ECPv6.5.1.3//NONSGML v1.0//EN
CALSCALE:GREGORIAN
METHOD:PUBLISH
X-WR-CALNAME:Zebula Golf Estate &amp; Spa
X-ORIGINAL-URL:https://zebulagolfestate.co.za
X-WR-CALDESC:Events for Zebula Golf Estate &amp; Spa
REFRESH-INTERVAL;VALUE=DURATION:PT1H
X-Robots-Tag:noindex
X-PUBLISHED-TTL:PT1H
BEGIN:VTIMEZONE
TZID:Africa/Johannesburg
BEGIN:STANDARD
TZOFFSETFROM:+0200
TZOFFSETTO:+0200
TZNAME:SAST
DTSTART:20250101T000000
END:STANDARD
END:VTIMEZONE
BEGIN:VEVENT
DTSTART;TZID=Africa/Johannesburg:20250809T120000
DTEND;TZID=Africa/Johannesburg:20250809T220000
DTSTAMP:20260425T054658
CREATED:20250504T073041Z
LAST-MODIFIED:20250730T130523Z
UID:83673-1754740800-1754776800@zebulagolfestate.co.za
SUMMARY:JAZZ & WHISKY FESTIVAL
DESCRIPTION:🥃 JAZZ & WHISKY FESTIVAL 🎷 \nZebula Golf Estate & Spa | 8–9 August 2025\nWith life performances by Singer Songwriter ALouise and Saxophonist Jeff \n  \nLet the smooth sounds of jazz and the bold notes of fine whisky take you away this winter long weekend. \nJoin us for an unforgettable celebration of sound and spirit featuring: \n  \n🎷 Live jazz performances under the stars \n🥃 A curated selection of local and international whiskies \n🔥 Bonfire lounges and cigar corners \n🍽️ Gourmet pairings and tastings \n🛏️ Weekend accommodation packages available \n  \nSip\, sway\, and stay — only at Zebula.
URL:https://zebulagolfestate.co.za/event/jazz-whisky-festival/
LOCATION:Zebula Conference Centre\, FARM NO 534 KQ\, D1000\, MABULA DISTRICT\, Bela-Bela\, Limpopo\, 0480\, South Africa
CATEGORIES:Music,Weekend
ATTACH;FMTTYPE=image/jpeg:https://zebulagolfestate.co.za/wp-content/uploads/2025/05/JAZZ-WHISKEY.jpg
ORGANIZER;CN="Zebula Reservations":MAILTO:reservations@zebula.co.za
END:VEVENT
END:VCALENDAR