BEGIN:VCALENDAR
VERSION:2.0
PRODID:-//Zebula Golf Estate &amp; Spa - ECPv6.5.1.3//NONSGML v1.0//EN
CALSCALE:GREGORIAN
METHOD:PUBLISH
X-WR-CALNAME:Zebula Golf Estate &amp; Spa
X-ORIGINAL-URL:https://zebulagolfestate.co.za
X-WR-CALDESC:Events for Zebula Golf Estate &amp; Spa
REFRESH-INTERVAL;VALUE=DURATION:PT1H
X-Robots-Tag:noindex
X-PUBLISHED-TTL:PT1H
BEGIN:VTIMEZONE
TZID:Africa/Johannesburg
BEGIN:STANDARD
TZOFFSETFROM:+0200
TZOFFSETTO:+0200
TZNAME:SAST
DTSTART:20260101T000000
END:STANDARD
END:VTIMEZONE
BEGIN:VEVENT
DTSTART;TZID=Africa/Johannesburg:20260403T153000
DTEND;TZID=Africa/Johannesburg:20260406T130000
DTSTAMP:20260424T132743
CREATED:20260331T100032Z
LAST-MODIFIED:20260331T100043Z
UID:92390-1775230200-1775480400@zebulagolfestate.co.za
SUMMARY:CLINTON VILJOEN
DESCRIPTION:🎶 Live Music with Clinton Viljoen at the Zebula Clubhouse\nJoin us for some unforgettable live music as the incredibly talented Clinton Viljoen takes the stage at the Zebula Clubhouse. \nKnown for his soulful melodies\, masterful arrangements\, and boundless musical talent\, Clinton brings a rich and dynamic performance that resonates with audiences of all ages. Whether he’s behind the mic\, on the keys\, or crafting harmonies\, his passion for music is undeniable. \nKick back\, relax\, and enjoy the vibrant Bushveld atmosphere with great food\, refreshing drinks\, and the sounds of a rising star. \nNo cover charge | Walk-ins welcome
URL:https://zebulagolfestate.co.za/event/clinton-viljoen-13/
LOCATION:Zebula Club House\, Zebula Golf Estate and Spa\, Bela Bela\, 0480\, South Africa
CATEGORIES:Music
ATTACH;FMTTYPE=image/jpeg:https://zebulagolfestate.co.za/wp-content/uploads/2026/03/518114794_1062479392669995_1779146059859462165_n.jpg
ORGANIZER;CN="Zebula Conferencing":MAILTO:conferencing@zebula.co.za
END:VEVENT
END:VCALENDAR