BEGIN:VCALENDAR
VERSION:2.0
PRODID:-//Zebula Golf Estate &amp; Spa - ECPv6.5.1.3//NONSGML v1.0//EN
CALSCALE:GREGORIAN
METHOD:PUBLISH
X-ORIGINAL-URL:https://zebulagolfestate.co.za
X-WR-CALDESC:Events for Zebula Golf Estate &amp; Spa
REFRESH-INTERVAL;VALUE=DURATION:PT1H
X-Robots-Tag:noindex
X-PUBLISHED-TTL:PT1H
BEGIN:VTIMEZONE
TZID:Africa/Johannesburg
BEGIN:STANDARD
TZOFFSETFROM:+0200
TZOFFSETTO:+0200
TZNAME:SAST
DTSTART:20240101T000000
END:STANDARD
END:VTIMEZONE
BEGIN:VEVENT
DTSTART;TZID=Africa/Johannesburg:20240425T110000
DTEND;TZID=Africa/Johannesburg:20240425T170000
DTSTAMP:20260426T052751
CREATED:20240408T150407Z
LAST-MODIFIED:20240408T150407Z
UID:64779-1714042800-1714064400@zebulagolfestate.co.za
SUMMARY:Huis Talje Children's Home Golf Day
DESCRIPTION:Huis Talje Children’s Home – Home for SEVERELY disabled children in need of care and protection – is raising funds with this very exciting event.\nPlease join them in making this day a huge success!!\nThursday\, 25 April 2024 @ Zebula Golf Estate\, Bela Bela\nHOW TO GET INVOLVED:\n1. 4-Ball @ R3 500.00\n*Price includes: Golf cart\, halfway & pizza after\n2. T-Box @ R1 500.00\n3. Both @ R4 500.00\nBOOKINGS:\nCindy / Carissa : +27 82 093 4600\nadmintalje@senco.co.za
URL:https://zebulagolfestate.co.za/event/huis-talje-childrens-home-golf-day/
LOCATION:Zebula Club House\, Zebula Golf Estate and Spa\, Bela Bela\, 0480\, South Africa
CATEGORIES:Golf
ATTACH;FMTTYPE=image/jpeg:https://zebulagolfestate.co.za/wp-content/uploads/2024/04/434425935_2251030575103799_8724853240681999959_n.jpg
END:VEVENT
BEGIN:VEVENT
DTSTART;VALUE=DATE:20240426
DTEND;VALUE=DATE:20240427
DTSTAMP:20260426T052751
CREATED:20240408T034355Z
LAST-MODIFIED:20240408T034355Z
UID:64738-1714089600-1714175999@zebulagolfestate.co.za
SUMMARY:SPYDA GOLD DAY
DESCRIPTION:Join Brian Baloyi in a day filled with camaraderie\, laughter\, and goodwill as we gather for a purpose beyond ourselves. Our objectives for this special occasion are clear: \n🤝 To create a business networking opportunity\, fostering connections that will pave the way for future collaborations and endeavors. \n🎒 To raise funds for the purchase of 100 backpacks\, ensuring that every school kid – both boys and girls – in our beloved region has the tools they need to succeed. \n👟 To raise funds for the purchase of school shoes\, providing comfort and dignity to rural school-going children\, enabling them to walk confidently towards their dreams. \nAnd let’s not forget the grand finale – a prize-giving ceremony to pay homage to the journey that has brought us all together\, celebrating the remarkable impact we can make when we unite in purpose and generosity. \nSo mark your calendars\, spread the word\, and get ready to join me in an unforgettable evening of celebration and giving back. Together\, let’s turn dreams into realities and make a lasting difference in the lives of those who need it most.
URL:https://zebulagolfestate.co.za/event/spyda-gold-day/
LOCATION:Zebula Club House\, Zebula Golf Estate and Spa\, Bela Bela\, 0480\, South Africa
CATEGORIES:Golf
ATTACH;FMTTYPE=image/jpeg:https://zebulagolfestate.co.za/wp-content/uploads/2024/04/Spyda-golf.jpg
END:VEVENT
END:VCALENDAR