BEGIN:VCALENDAR
VERSION:2.0
PRODID:-//Zebula Golf Estate &amp; Spa - ECPv6.5.1.3//NONSGML v1.0//EN
CALSCALE:GREGORIAN
METHOD:PUBLISH
X-WR-CALNAME:Zebula Golf Estate &amp; Spa
X-ORIGINAL-URL:https://zebulagolfestate.co.za
X-WR-CALDESC:Events for Zebula Golf Estate &amp; Spa
REFRESH-INTERVAL;VALUE=DURATION:PT1H
X-Robots-Tag:noindex
X-PUBLISHED-TTL:PT1H
BEGIN:VTIMEZONE
TZID:Africa/Johannesburg
BEGIN:STANDARD
TZOFFSETFROM:+0200
TZOFFSETTO:+0200
TZNAME:SAST
DTSTART:20240101T000000
END:STANDARD
END:VTIMEZONE
BEGIN:VEVENT
DTSTART;TZID=Africa/Johannesburg:20240607T070000
DTEND;TZID=Africa/Johannesburg:20240607T170000
DTSTAMP:20260426T025452
CREATED:20240423T112025Z
LAST-MODIFIED:20240423T112025Z
UID:65443-1717743600-1717779600@zebulagolfestate.co.za
SUMMARY:Bushveld Golf Classic
DESCRIPTION:Limpopo is celebrated for its exceptional golf courses\, and Bela-Bela\, located in the scenic Waterberg region\, is a favorite destination for numerous golf tournaments\, attracting players to its world-class greens. In light of this\, we are excited to invite the estates in the area to participate in the inaugural annual Bushveld Classic. This tournament will be held on June 7\, 2024\, and each estate may enter one or two teams\, with each team comprising four players. The entry fee is R795 per player\, which includes a golf cart. \n  \nAre you ready to compete and determine who will be crowned the Champion of the Bushveld for 2024?
URL:https://zebulagolfestate.co.za/event/bushveld-golf-classic/
LOCATION:Zebula Club House\, Zebula Golf Estate and Spa\, Bela Bela\, 0480\, South Africa
CATEGORIES:Golf
ATTACH;FMTTYPE=image/jpeg:https://zebulagolfestate.co.za/wp-content/uploads/2024/04/FACEBOOK-COVER.jpg
END:VEVENT
BEGIN:VEVENT
DTSTART;TZID=Africa/Johannesburg:20240614T080000
DTEND;TZID=Africa/Johannesburg:20240616T170000
DTSTAMP:20260426T025452
CREATED:20240428T141746Z
LAST-MODIFIED:20240429T060325Z
UID:65690-1718352000-1718557200@zebulagolfestate.co.za
SUMMARY:BUSHVELD PADEL CHAMPIONSHIP
DESCRIPTION:BUSHVELD PADEL CHAMPIONSHIP\nR800.00 \nJoin us at Zebula Golf Estate & Spa for an exhilarating weekend of competition and camaraderie at the Bushveld Padel Championship\, happening June 14-16\, 2024. This is a invite to all Zebula padelplayers and our neighbors from surrounding estates! Assemble your ultimate team of four and enter into a battle to determine who will claim the title of King of the Padel Court this year. \nPrepare for a tournament where skill\, strategy\, and spirit converge amidst the breathtaking scenery of the bushveld. This championship promises intense matches\, unforgettable moments\, and a chance to write your name in the annals of Bushveld padel history. \nDon’t miss your chance to be a part of this prestigious event. Gather your teammates\, sharpen your skills\, and step onto the court to claim your crown!
URL:https://zebulagolfestate.co.za/event/bushveld-padel-championship/
LOCATION:Zebula Club House\, Zebula Golf Estate and Spa\, Bela Bela\, 0480\, South Africa
CATEGORIES:Padel
ATTACH;FMTTYPE=image/jpeg:https://zebulagolfestate.co.za/wp-content/uploads/2024/04/padel-cover.jpg
END:VEVENT
BEGIN:VEVENT
DTSTART;TZID=Africa/Johannesburg:20240616T080000
DTEND;TZID=Africa/Johannesburg:20240616T170000
DTSTAMP:20260426T025452
CREATED:20240504T120030Z
LAST-MODIFIED:20240504T120031Z
UID:66073-1718524800-1718557200@zebulagolfestate.co.za
SUMMARY:Father's Day
DESCRIPTION:This Father’s Day\, make unforgettable memories on the greens at Zebula! On June 16\, 2024\, bring your kids along for a day of fun — while dads pay the usual rate\, kids play for free! It’s the perfect opportunity to share the joy of golf with the whole family. Don’t miss out on this special day. Book your tee time today at the pro shop by calling 014 734 7708. \n\nCelebrate Father’s Day in style at Zebula!
URL:https://zebulagolfestate.co.za/event/fathers-day/
LOCATION:Zebula Club House\, Zebula Golf Estate and Spa\, Bela Bela\, 0480\, South Africa
CATEGORIES:Golf
ATTACH;FMTTYPE=image/jpeg:https://zebulagolfestate.co.za/wp-content/uploads/2024/05/GOLF-COVER.jpg
END:VEVENT
END:VCALENDAR