BEGIN:VCALENDAR
VERSION:2.0
PRODID:-//Zebula Golf Estate &amp; Spa - ECPv6.5.1.3//NONSGML v1.0//EN
CALSCALE:GREGORIAN
METHOD:PUBLISH
X-WR-CALNAME:Zebula Golf Estate &amp; Spa
X-ORIGINAL-URL:https://zebulagolfestate.co.za
X-WR-CALDESC:Events for Zebula Golf Estate &amp; Spa
REFRESH-INTERVAL;VALUE=DURATION:PT1H
X-Robots-Tag:noindex
X-PUBLISHED-TTL:PT1H
BEGIN:VTIMEZONE
TZID:Africa/Johannesburg
BEGIN:STANDARD
TZOFFSETFROM:+0200
TZOFFSETTO:+0200
TZNAME:SAST
DTSTART:20240101T000000
END:STANDARD
END:VTIMEZONE
BEGIN:VEVENT
DTSTART;TZID=Africa/Johannesburg:20240906T080000
DTEND;TZID=Africa/Johannesburg:20240906T170000
DTSTAMP:20260425T212620
CREATED:20240504T094951Z
LAST-MODIFIED:20240504T094951Z
UID:66053-1725609600-1725642000@zebulagolfestate.co.za
SUMMARY:Literacy for Life Golf Day
DESCRIPTION:
URL:https://zebulagolfestate.co.za/event/literacy-for-life-golf-day/
CATEGORIES:Golf
END:VEVENT
BEGIN:VEVENT
DTSTART;TZID=Africa/Johannesburg:20240920T080000
DTEND;TZID=Africa/Johannesburg:20240920T170000
DTSTAMP:20260425T212620
CREATED:20240504T094850Z
LAST-MODIFIED:20240802T133951Z
UID:66051-1726819200-1726851600@zebulagolfestate.co.za
SUMMARY:Unisa Golf day
DESCRIPTION:
URL:https://zebulagolfestate.co.za/event/unisa-golf-day/
LOCATION:Zebula Club House\, Zebula Golf Estate and Spa\, Bela Bela\, 0480\, South Africa
CATEGORIES:Golf
END:VEVENT
END:VCALENDAR