BEGIN:VCALENDAR
VERSION:2.0
PRODID:-//Zebula Golf Estate &amp; Spa - ECPv6.5.1.3//NONSGML v1.0//EN
CALSCALE:GREGORIAN
METHOD:PUBLISH
X-WR-CALNAME:Zebula Golf Estate &amp; Spa
X-ORIGINAL-URL:https://zebulagolfestate.co.za
X-WR-CALDESC:Events for Zebula Golf Estate &amp; Spa
REFRESH-INTERVAL;VALUE=DURATION:PT1H
X-Robots-Tag:noindex
X-PUBLISHED-TTL:PT1H
BEGIN:VTIMEZONE
TZID:Africa/Johannesburg
BEGIN:STANDARD
TZOFFSETFROM:+0200
TZOFFSETTO:+0200
TZNAME:SAST
DTSTART:20240101T000000
END:STANDARD
END:VTIMEZONE
BEGIN:VEVENT
DTSTART;TZID=Africa/Johannesburg:20241220T150000
DTEND;TZID=Africa/Johannesburg:20250112T140000
DTSTAMP:20260425T135609
CREATED:20240926T110533Z
LAST-MODIFIED:20241206T045427Z
UID:72601-1734706800-1736690400@zebulagolfestate.co.za
SUMMARY:Geoff St John at zebula
DESCRIPTION:This Weekend at THE MULLIGAN! \n\n\n\nJoin us at Zebula Golf Estate and Spa’s THE MULLIGAN Irish Restaurant for a special performance by Geoff St. John\, the legendary artist who brought us hits like ‘Kiss Me Kiss Your Baby’ and ‘Candy.’ \n\n\n\nGeoff shot to fame in the ‘70s with his iconic Top 10 hits\, and now\, he’s gracing our stage from 13 Dec to 05 January 2025 Don’t miss the chance to hear his timeless tunes live as he brings back the magic of ‘Kiss Me Kiss Your Baby\,’ which peaked at #10 in South Africa\, and ‘Candy\,’ another South African Top 10 sensation.\n\n\n\nHaving opened for stars like Cliff Richard and Natalie Cole\, Geoff has performed on stages across Europe and South Africa\, and now it’s your turn to experience his electrifying show.\n\n\n\n Grab your friends\, enjoy some great food and drinks\, and let the music take you back!
URL:https://zebulagolfestate.co.za/event/geoff-st-john-at-zebula/2024-12-20/
LOCATION:Zebula Club House\, Zebula Golf Estate and Spa\, Bela Bela\, 0480\, South Africa
CATEGORIES:Music
ATTACH;FMTTYPE=image/jpeg:https://zebulagolfestate.co.za/wp-content/uploads/2024/09/GEOFF-XMAS.jpg
ORGANIZER;CN="Zebula Conferencing":MAILTO:conferencing@zebula.co.za
END:VEVENT
BEGIN:VEVENT
DTSTART;TZID=Africa/Johannesburg:20241231T190000
DTEND;TZID=Africa/Johannesburg:20250101T020000
DTSTAMP:20260425T135609
CREATED:20240911T111728Z
LAST-MODIFIED:20241231T121347Z
UID:71872-1735671600-1735696800@zebulagolfestate.co.za
SUMMARY:New Years Eve Disco Party
DESCRIPTION:Get your groove on this New Year’s Eve at Zebula Golf Estate and Spa’s Disco Party! Boogie the night away to live beats\, indulge in a delicious menu\, and toast to the new year with some sparkling vibes. For just R50\, you’ll get entry and a glass of bubbly\, or go all-out with dinner and entry for R399. It’s going to be a night of funky moves\, good vibes\, and disco fever!
URL:https://zebulagolfestate.co.za/event/new-years-eve-disco-party/
LOCATION:Zebula Club House\, Zebula Golf Estate and Spa\, Bela Bela\, 0480\, South Africa
CATEGORIES:Festive Season
ATTACH;FMTTYPE=image/jpeg:https://zebulagolfestate.co.za/wp-content/uploads/2024/09/Disco-party.jpg
ORGANIZER;CN="Zebula Reservations":MAILTO:reservations@zebula.co.za
END:VEVENT
BEGIN:VEVENT
DTSTART;TZID=Africa/Johannesburg:20250101T120000
DTEND;TZID=Africa/Johannesburg:20250101T170000
DTSTAMP:20260425T135609
CREATED:20240926T110533Z
LAST-MODIFIED:20241206T045436Z
UID:74001-1735732800-1735750800@zebulagolfestate.co.za
SUMMARY:Geoff St John at zebula
DESCRIPTION:This Weekend at THE MULLIGAN! \n\n\n\nJoin us at Zebula Golf Estate and Spa’s THE MULLIGAN Irish Restaurant for a special performance by Geoff St. John\, the legendary artist who brought us hits like ‘Kiss Me Kiss Your Baby’ and ‘Candy.’ \n\n\n\nGeoff shot to fame in the ‘70s with his iconic Top 10 hits\, and now\, he’s gracing our stage from 13 Dec to 05 January 2025 Don’t miss the chance to hear his timeless tunes live as he brings back the magic of ‘Kiss Me Kiss Your Baby\,’ which peaked at #10 in South Africa\, and ‘Candy\,’ another South African Top 10 sensation.\n\n\n\nHaving opened for stars like Cliff Richard and Natalie Cole\, Geoff has performed on stages across Europe and South Africa\, and now it’s your turn to experience his electrifying show.\n\n\n\n Grab your friends\, enjoy some great food and drinks\, and let the music take you back!
URL:https://zebulagolfestate.co.za/event/geoff-st-john-at-zebula/2025-01-01/
LOCATION:Zebula Club House\, Zebula Golf Estate and Spa\, Bela Bela\, 0480\, South Africa
CATEGORIES:Music
ATTACH;FMTTYPE=image/jpeg:https://zebulagolfestate.co.za/wp-content/uploads/2024/09/GEOFF-XMAS.jpg
ORGANIZER;CN="Zebula Conferencing":MAILTO:conferencing@zebula.co.za
END:VEVENT
BEGIN:VEVENT
DTSTART;TZID=Africa/Johannesburg:20250102T120000
DTEND;TZID=Africa/Johannesburg:20250102T170000
DTSTAMP:20260425T135609
CREATED:20240926T110533Z
LAST-MODIFIED:20241206T045436Z
UID:74002-1735819200-1735837200@zebulagolfestate.co.za
SUMMARY:Geoff St John at zebula
DESCRIPTION:This Weekend at THE MULLIGAN! \n\n\n\nJoin us at Zebula Golf Estate and Spa’s THE MULLIGAN Irish Restaurant for a special performance by Geoff St. John\, the legendary artist who brought us hits like ‘Kiss Me Kiss Your Baby’ and ‘Candy.’ \n\n\n\nGeoff shot to fame in the ‘70s with his iconic Top 10 hits\, and now\, he’s gracing our stage from 13 Dec to 05 January 2025 Don’t miss the chance to hear his timeless tunes live as he brings back the magic of ‘Kiss Me Kiss Your Baby\,’ which peaked at #10 in South Africa\, and ‘Candy\,’ another South African Top 10 sensation.\n\n\n\nHaving opened for stars like Cliff Richard and Natalie Cole\, Geoff has performed on stages across Europe and South Africa\, and now it’s your turn to experience his electrifying show.\n\n\n\n Grab your friends\, enjoy some great food and drinks\, and let the music take you back!
URL:https://zebulagolfestate.co.za/event/geoff-st-john-at-zebula/2025-01-02/
LOCATION:Zebula Club House\, Zebula Golf Estate and Spa\, Bela Bela\, 0480\, South Africa
CATEGORIES:Music
ATTACH;FMTTYPE=image/jpeg:https://zebulagolfestate.co.za/wp-content/uploads/2024/09/GEOFF-XMAS.jpg
ORGANIZER;CN="Zebula Conferencing":MAILTO:conferencing@zebula.co.za
END:VEVENT
BEGIN:VEVENT
DTSTART;TZID=Africa/Johannesburg:20250103T120000
DTEND;TZID=Africa/Johannesburg:20250103T170000
DTSTAMP:20260425T135609
CREATED:20240926T110533Z
LAST-MODIFIED:20241206T045436Z
UID:74003-1735905600-1735923600@zebulagolfestate.co.za
SUMMARY:Geoff St John at zebula
DESCRIPTION:This Weekend at THE MULLIGAN! \n\n\n\nJoin us at Zebula Golf Estate and Spa’s THE MULLIGAN Irish Restaurant for a special performance by Geoff St. John\, the legendary artist who brought us hits like ‘Kiss Me Kiss Your Baby’ and ‘Candy.’ \n\n\n\nGeoff shot to fame in the ‘70s with his iconic Top 10 hits\, and now\, he’s gracing our stage from 13 Dec to 05 January 2025 Don’t miss the chance to hear his timeless tunes live as he brings back the magic of ‘Kiss Me Kiss Your Baby\,’ which peaked at #10 in South Africa\, and ‘Candy\,’ another South African Top 10 sensation.\n\n\n\nHaving opened for stars like Cliff Richard and Natalie Cole\, Geoff has performed on stages across Europe and South Africa\, and now it’s your turn to experience his electrifying show.\n\n\n\n Grab your friends\, enjoy some great food and drinks\, and let the music take you back!
URL:https://zebulagolfestate.co.za/event/geoff-st-john-at-zebula/2025-01-03/
LOCATION:Zebula Club House\, Zebula Golf Estate and Spa\, Bela Bela\, 0480\, South Africa
CATEGORIES:Music
ATTACH;FMTTYPE=image/jpeg:https://zebulagolfestate.co.za/wp-content/uploads/2024/09/GEOFF-XMAS.jpg
ORGANIZER;CN="Zebula Conferencing":MAILTO:conferencing@zebula.co.za
END:VEVENT
BEGIN:VEVENT
DTSTART;TZID=Africa/Johannesburg:20250104T120000
DTEND;TZID=Africa/Johannesburg:20250104T170000
DTSTAMP:20260425T135609
CREATED:20240926T110533Z
LAST-MODIFIED:20241206T045436Z
UID:74004-1735992000-1736010000@zebulagolfestate.co.za
SUMMARY:Geoff St John at zebula
DESCRIPTION:This Weekend at THE MULLIGAN! \n\n\n\nJoin us at Zebula Golf Estate and Spa’s THE MULLIGAN Irish Restaurant for a special performance by Geoff St. John\, the legendary artist who brought us hits like ‘Kiss Me Kiss Your Baby’ and ‘Candy.’ \n\n\n\nGeoff shot to fame in the ‘70s with his iconic Top 10 hits\, and now\, he’s gracing our stage from 13 Dec to 05 January 2025 Don’t miss the chance to hear his timeless tunes live as he brings back the magic of ‘Kiss Me Kiss Your Baby\,’ which peaked at #10 in South Africa\, and ‘Candy\,’ another South African Top 10 sensation.\n\n\n\nHaving opened for stars like Cliff Richard and Natalie Cole\, Geoff has performed on stages across Europe and South Africa\, and now it’s your turn to experience his electrifying show.\n\n\n\n Grab your friends\, enjoy some great food and drinks\, and let the music take you back!
URL:https://zebulagolfestate.co.za/event/geoff-st-john-at-zebula/2025-01-04/
LOCATION:Zebula Club House\, Zebula Golf Estate and Spa\, Bela Bela\, 0480\, South Africa
CATEGORIES:Music
ATTACH;FMTTYPE=image/jpeg:https://zebulagolfestate.co.za/wp-content/uploads/2024/09/GEOFF-XMAS.jpg
ORGANIZER;CN="Zebula Conferencing":MAILTO:conferencing@zebula.co.za
END:VEVENT
BEGIN:VEVENT
DTSTART;TZID=Africa/Johannesburg:20250105T120000
DTEND;TZID=Africa/Johannesburg:20250105T170000
DTSTAMP:20260425T135609
CREATED:20240926T110533Z
LAST-MODIFIED:20241206T045437Z
UID:74005-1736078400-1736096400@zebulagolfestate.co.za
SUMMARY:Geoff St John at zebula
DESCRIPTION:This Weekend at THE MULLIGAN! \n\n\n\nJoin us at Zebula Golf Estate and Spa’s THE MULLIGAN Irish Restaurant for a special performance by Geoff St. John\, the legendary artist who brought us hits like ‘Kiss Me Kiss Your Baby’ and ‘Candy.’ \n\n\n\nGeoff shot to fame in the ‘70s with his iconic Top 10 hits\, and now\, he’s gracing our stage from 13 Dec to 05 January 2025 Don’t miss the chance to hear his timeless tunes live as he brings back the magic of ‘Kiss Me Kiss Your Baby\,’ which peaked at #10 in South Africa\, and ‘Candy\,’ another South African Top 10 sensation.\n\n\n\nHaving opened for stars like Cliff Richard and Natalie Cole\, Geoff has performed on stages across Europe and South Africa\, and now it’s your turn to experience his electrifying show.\n\n\n\n Grab your friends\, enjoy some great food and drinks\, and let the music take you back!
URL:https://zebulagolfestate.co.za/event/geoff-st-john-at-zebula/2025-01-05/
LOCATION:Zebula Club House\, Zebula Golf Estate and Spa\, Bela Bela\, 0480\, South Africa
CATEGORIES:Music
ATTACH;FMTTYPE=image/jpeg:https://zebulagolfestate.co.za/wp-content/uploads/2024/09/GEOFF-XMAS.jpg
ORGANIZER;CN="Zebula Conferencing":MAILTO:conferencing@zebula.co.za
END:VEVENT
BEGIN:VEVENT
DTSTART;TZID=Africa/Johannesburg:20250117T140000
DTEND;TZID=Africa/Johannesburg:20250119T220000
DTSTAMP:20260425T135609
CREATED:20250115T135959Z
LAST-MODIFIED:20250115T135959Z
UID:78724-1737122400-1737324000@zebulagolfestate.co.za
SUMMARY:Catch Zoë Venter Live at The Mulligan This Weekend!
DESCRIPTION:🎶 Catch Zoë Venter Live at The Mulligan This Weekend! 🎶 \nThis weekend\, January 17-19\, immerse yourself in the captivating sounds of Zoë Venter\, a talented singer and multi-instrumentalist who is making waves in the music world. Zoë is a self-taught pianist and guitarist whose soulful melodies and heartfelt lyrics have earned her a dedicated following. \nJoin us at The Mulligan at Zebula Golf Estate and Spa for an unforgettable weekend of live music\, great vibes\, and a warm atmosphere. Whether you’re relaxing after a day on the greens or looking for the perfect way to wind down your weekend\, Zoë’s performance is not to be missed. \n📅 Dates: 17-19 January\n📍 Location: The Mulligan\, Zebula Golf Estate and Spa \nBring your friends and family for a memorable musical experience! 🎤🎹🎸
URL:https://zebulagolfestate.co.za/event/catch-zoe-venter-live-at-the-mulligan-this-weekend/
LOCATION:Zebula Club House\, Zebula Golf Estate and Spa\, Bela Bela\, 0480\, South Africa
CATEGORIES:Music
ATTACH;FMTTYPE=image/jpeg:https://zebulagolfestate.co.za/wp-content/uploads/2025/01/Zoe.jpg
ORGANIZER;CN="Zebula Reservations":MAILTO:reservations@zebula.co.za
END:VEVENT
BEGIN:VEVENT
DTSTART;TZID=Africa/Johannesburg:20250120T080000
DTEND;TZID=Africa/Johannesburg:20250126T170000
DTSTAMP:20260425T135609
CREATED:20240918T120731Z
LAST-MODIFIED:20240918T120731Z
UID:72167-1737360000-1737910800@zebulagolfestate.co.za
SUMMARY:SDC Open 2025
DESCRIPTION:The 2025 Road to Mallorca begins in South Africa this week with the SDC Open at Zebula Golf Estate & Spa\, Limpopo
URL:https://zebulagolfestate.co.za/event/sdc-open-2025/
LOCATION:Zebula Conference Centre\, FARM NO 534 KQ\, D1000\, MABULA DISTRICT\, Bela-Bela\, Limpopo\, 0480\, South Africa
CATEGORIES:Golf
ATTACH;FMTTYPE=image/jpeg:https://zebulagolfestate.co.za/wp-content/uploads/2024/09/fkjzcmyfxsyjr9112wfr.jpg
ORGANIZER;CN="Zebula Conferencing":MAILTO:conferencing@zebula.co.za
END:VEVENT
BEGIN:VEVENT
DTSTART;TZID=Africa/Johannesburg:20250124T140000
DTEND;TZID=Africa/Johannesburg:20250125T220000
DTSTAMP:20260425T135609
CREATED:20250115T141149Z
LAST-MODIFIED:20250115T141335Z
UID:78727-1737727200-1737842400@zebulagolfestate.co.za
SUMMARY:Singer Songwriter Alouise
DESCRIPTION:This Weekend at The Mulligan: Alouise Live! \n\n\nGet ready for an unforgettable experience as the incredibly talented Alouise takes the stage at The Mulligan\, Zebula Clubhouse this weekend! \n\n\n Who is Alouise?\n\n\nA multi-instrumentalist with 20 years of music teaching experience.\nPlays guitar\, bass\, drums\, sings\, and dabbles in music production and songwriting.\nCurrently the bassist for multi-platinum Afrikaans superstar\, Bok van Blerk.\nA seasoned performer who has graced South Africa’s biggest stages and worked with top local and international artists.\n Bonus! Santa will also be stopping by! Bring the little ones (or your wish list!) and share your Christmas wishes. \n\n\n Where: The Mulligan\, Zebula Clubhouse\n When: This weekend\n\n\n Don’t miss this magical night of music and holiday cheer. See you there!
URL:https://zebulagolfestate.co.za/event/singer-songwriter-alouise/
LOCATION:Zebula Club House\, Zebula Golf Estate and Spa\, Bela Bela\, 0480\, South Africa
CATEGORIES:Activities,Music
ATTACH;FMTTYPE=image/jpeg:https://zebulagolfestate.co.za/wp-content/uploads/2025/01/Alouise.jpg
ORGANIZER;CN="Zebula Reservations":MAILTO:reservations@zebula.co.za
END:VEVENT
END:VCALENDAR