BEGIN:VCALENDAR
VERSION:2.0
PRODID:-//Zebula Golf Estate &amp; Spa - ECPv6.5.1.3//NONSGML v1.0//EN
CALSCALE:GREGORIAN
METHOD:PUBLISH
X-WR-CALNAME:Zebula Golf Estate &amp; Spa
X-ORIGINAL-URL:https://zebulagolfestate.co.za
X-WR-CALDESC:Events for Zebula Golf Estate &amp; Spa
REFRESH-INTERVAL;VALUE=DURATION:PT1H
X-Robots-Tag:noindex
X-PUBLISHED-TTL:PT1H
BEGIN:VTIMEZONE
TZID:Africa/Johannesburg
BEGIN:STANDARD
TZOFFSETFROM:+0200
TZOFFSETTO:+0200
TZNAME:SAST
DTSTART:20250101T000000
END:STANDARD
END:VTIMEZONE
BEGIN:VEVENT
DTSTART;TZID=Africa/Johannesburg:20250530T080000
DTEND;TZID=Africa/Johannesburg:20250601T130000
DTSTAMP:20260425T012019
CREATED:20250424T105724Z
LAST-MODIFIED:20250602T101706Z
UID:82988-1748592000-1748782800@zebulagolfestate.co.za
SUMMARY:Weekend activities: 30 May - 1 June 2025
DESCRIPTION:30 May 2025 \n15:00 MULLIGANS BAR\nBeat the Pro \n16:00 JNR RANGERS\nKids Quad Bike Ride \n17:00 JNR MASTER CHEF\nKids Pizza Making\n18:00 GOLF ACADAMY \nFree Chipping Class \n19:00 MULLIGANS BAR \nNight Shootout \n20:00  MULLIGANS BAR\nKaraoke \n\n31 May 2025 \n09:00 JNR RANGERS \nKids Game Walk- Meet at\nAdventures & Activity Centre \n10:00 GOLF ACADAMY\nChipping Lesson – Meet at\nthe Pro Shop\n11:00 JNR GAME RANGER\nAnimal/Bird/Plant Identification\n12:00 JNR GAME RANGER\nReptile Demo/Bokdrol spoeg – meet\nat the Adventure & Activity Centre \n13:00 JNR MASTER CHEF\nKids Pizza Making \n14:00  MULLIGANS BAR\nGeneral Knowledge Quiz \n15:00 MULLIGANS BAR\nBeat the Pro \n16:00 JNR RANGERS\nKids Quad Bike Ride \n17:00 GOLF ACADAMY\nFree Putting Class      18:00 MULLIGANS BAR\n     Longest drive competition\n     19:00 MULLIGANS BAR \n     Night Putt Putt \n     20:00  MULLIGANS BAR\n       Karaoke \n\n01 June 2025 \n09:00 JNR RANGERS \nKids Game Walk- Meet at\nAdventures & Activity Centre \n10:00 GOLF ACADAMY\nBunker – Meet at the Pro Shop\n11:00 JNR GAME RANGER\nFind the Birds\n12:00 Sunday Lunch\nJoin Us  lunch at the Terrace Restaurant\nPizza Special only R189 for two pizzas \n 
URL:https://zebulagolfestate.co.za/event/weekend-may/
LOCATION:Zebula Club House\, Zebula Golf Estate and Spa\, Bela Bela\, 0480\, South Africa
CATEGORIES:Activities
ATTACH;FMTTYPE=image/jpeg:https://zebulagolfestate.co.za/wp-content/uploads/2024/05/MixCollage-29-Aug-2024-04-01-PM-7597-scaled.jpg
END:VEVENT
BEGIN:VEVENT
DTSTART;TZID=Africa/Johannesburg:20250613T180000
DTEND;TZID=Africa/Johannesburg:20250613T233000
DTSTAMP:20260425T012019
CREATED:20250503T124614Z
LAST-MODIFIED:20250503T124614Z
UID:83663-1749837600-1749857400@zebulagolfestate.co.za
SUMMARY:AMAPIANO UNDER THE STARS
DESCRIPTION:🎶 AMAPIANO UNDER THE STARS 🎶Zebula Golf Estate & Spa | Sports Bar Takeover13–14 June 2025 | Weekend Vibes in the Bushveld \nGet ready for two nights of deep grooves\, chilled cocktails\, and serious vibes.🔥 Live DJs spinning the smoothest Amapiano beats🔥 Bushveld bonfire & signature cocktails🔥 Dance floor under the stars🔥 Local flavours from the grill🔥 Exclusive accommodation packages available \n🎧 Let the rhythm find you where the Bushveld meets the beat.
URL:https://zebulagolfestate.co.za/event/amapiano-under-the-stars/2025-06-13/
LOCATION:Zebula Club House\, Zebula Golf Estate and Spa\, Bela Bela\, 0480\, South Africa
CATEGORIES:Music
ATTACH;FMTTYPE=image/jpeg:https://zebulagolfestate.co.za/wp-content/uploads/2025/05/AMAPIANO-PARTY-JUNE.jpg
ORGANIZER;CN="Zebula Conferencing":MAILTO:conferencing@zebula.co.za
END:VEVENT
BEGIN:VEVENT
DTSTART;TZID=Africa/Johannesburg:20250614T180000
DTEND;TZID=Africa/Johannesburg:20250614T233000
DTSTAMP:20260425T012019
CREATED:20250503T124614Z
LAST-MODIFIED:20250503T124614Z
UID:83666-1749924000-1749943800@zebulagolfestate.co.za
SUMMARY:AMAPIANO UNDER THE STARS
DESCRIPTION:🎶 AMAPIANO UNDER THE STARS 🎶Zebula Golf Estate & Spa | Sports Bar Takeover13–14 June 2025 | Weekend Vibes in the Bushveld \nGet ready for two nights of deep grooves\, chilled cocktails\, and serious vibes.🔥 Live DJs spinning the smoothest Amapiano beats🔥 Bushveld bonfire & signature cocktails🔥 Dance floor under the stars🔥 Local flavours from the grill🔥 Exclusive accommodation packages available \n🎧 Let the rhythm find you where the Bushveld meets the beat.
URL:https://zebulagolfestate.co.za/event/amapiano-under-the-stars/2025-06-14/
LOCATION:Zebula Club House\, Zebula Golf Estate and Spa\, Bela Bela\, 0480\, South Africa
CATEGORIES:Music
ATTACH;FMTTYPE=image/jpeg:https://zebulagolfestate.co.za/wp-content/uploads/2025/05/AMAPIANO-PARTY-JUNE.jpg
ORGANIZER;CN="Zebula Conferencing":MAILTO:conferencing@zebula.co.za
END:VEVENT
BEGIN:VEVENT
DTSTART;TZID=Africa/Johannesburg:20250627T080000
DTEND;TZID=Africa/Johannesburg:20250721T130000
DTSTAMP:20260425T012019
CREATED:20250602T101344Z
LAST-MODIFIED:20250725T071742Z
UID:84722-1751011200-1753102800@zebulagolfestate.co.za
SUMMARY:School Holiday activities: 27 June - 21 July 2025
DESCRIPTION:27 June 2025 \n15:00 MULLIGAN BAR\nBeat the Pro \n16:00 JNR RANGERS\nKids Balloon Race \n17:00 JNR MASTER CHEF\nKids Pizza Making\n18:00 GOLF ACADAMY \nFree Chipping Class \n19:00 MULLIGAN BAR \nNight Shootout \n20:00  MULLIGAN BAR\nEntertainment \n\n28 June 2025 \n09:00 JNR RANGERS \nKids Game Walk- Meet at\nAdventures & Activity Centre \n10:00 GOLF ACADAMY\nChipping Lesson – Meet at\nthe Pro Shop\n11:00 JNR GAME RANGER\nEgg race\n12:00 JNR GAME RANGER\nReptile Demo/Bokdrol spoeg – meet\nat the Adventure & Activity Centre \n13:00 JNR MASTER CHEF\nKids Pizza Making \n14:00  MULLIGAN BAR\nGeneral Knowledge Quiz \n15:00 MULLIGAN BAR\nBeat the Pro \n16:00 JNR RANGERS\nKids Balloon Race \n17:00 GOLF ACADAMY\nFree Putting Class \n \n18:00 MULLIGAN BAR\n Longest drive competition \n19:00 MULLIGAN BAR\nNight Putt Putt \n20:00 MULLIGAN BAR\nKaraoke \n\n29 June 2025 \nMULLIGAN BAR\n08:00 – Guess that song \nMULLIGAN BAR\n09:00 – Pop Quiz \nJNR MASTER CHEF\n10:00 – Waffle Decorating \nMULLIGAN BAR\n11:00 – Hula hoop challenge \n  \n\n \n30 June – 3 July 2025 \nProshop\n09:00 – Free Introduction to Golf \nProshop\n13:00 – Free Putting Lesson \nProshop\n16:00 – Free Chipping Lesson \n18:00 MULLIGAN\nKids Karaoke \n  \n\n04 June 2025 \nProshop\n09:00 – Free Introduction to Golf \nProshop\n13:00 – Free Putting Lesson \n15:00 MULLIGAN BAR\nBeat the Pro \n16:00 JNR RANGERS\nKids Balloon Race \n17:00 JNR MASTER CHEF\nKids Pizza Making\n18:00 GOLF ACADAMY \nFree Chipping Class \n19:00 MULLIGAN BAR \nNight Shootout \n20:00  MULLIGAN BAR\nEntertainment \n\n05 July 2025 \n09:00 JNR RANGERS \nKids Game Walk- Meet at\nAdventures & Activity Centre \n10:00 GOLF ACADAMY\nChipping Lesson – Meet at\nthe Pro Shop\n11:00 JNR GAME RANGER\nEgg race\n12:00 JNR GAME RANGER\nReptile Demo/Bokdrol spoeg – meet\nat the Adventure & Activity Centre \n13:00 JNR MASTER CHEF\nKids Pizza Making \n14:00  MULLIGAN BAR\nGeneral Knowledge Quiz \n15:00 MULLIGAN BAR\nBeat the Pro \n16:00 JNR RANGERS\nKids Balloon Race \n17:00 GOLF ACADAMY\nFree Putting Class \n18:00 MULLIGAN BAR\nLongest drive competition\n \n19:00 MULLIGAN BAR\nNight Putt Putt \n20:00MULLIGAN BAR\nKaraoke \n\n06 July 2025 \nMULLIGAN BAR\n08:00 – Guess that song \nMULLIGAN BAR\n09:00 – Pop Quiz \nJNR MASTER CHEF\n10:00 – Waffle Decorating \nMULLIGAN BAR\n11:00 – Hula hoop challenge \n  \n\n \n07 – 10 July 2025 \nProshop\n09:00 – Free Introduction to Golf \nProshop\n13:00 – Free Putting Lesson \nProshop\n16:00 – Free Chipping Lesson \n18:00 MULLIGAN\nKids Karaoke \n\n11 June 2025 \nProshop\n09:00 – Free Introduction to Golf \nProshop\n13:00 – Free Putting Lesson \n15:00 MULLIGAN BAR\nBeat the Pro \n16:00 JNR RANGERS\nKids Balloon Race \n17:00 JNR MASTER CHEF\nKids Pizza Making\n18:00 GOLF ACADAMY \nFree Chipping Class \n19:00 MULLIGAN BAR \nNight Shootout \n20:00  MULLIGAN BAR\nEntertainment \n\n12 July 2025 \n09:00 JNR RANGERS \nKids Game Walk- Meet at\nAdventures & Activity Centre \n10:00 GOLF ACADAMY\nChipping Lesson – Meet at\nthe Pro Shop\n11:00 JNR GAME RANGER\nEgg race\n12:00 JNR GAME RANGER\nReptile Demo/Bokdrol spoeg – meet\nat the Adventure & Activity Centre \n13:00 JNR MASTER CHEF\nKids Pizza Making \n14:00  MULLIGAN BAR\nGeneral Knowledge Quiz \n15:00 MULLIGAN BAR\nBeat the Pro \n16:00 JNR RANGERS\nKids Balloon Race \n17:00 GOLF ACADAMY\nFree Putting Class  \n\n18:00 MULLIGAN BAR\nLongest drive competition \n19:00 MULLIGAN BAR\n Night Putt Putt \n20:00MULLIGAN BAR\nKaraoke \n\n13 July 2025 \nMULLIGAN BAR\n08:00 – Guess that song \nMULLIGAN BAR\n09:00 – Pop Quiz \nJNR MASTER CHEF\n10:00 – Waffle Decorating \nMULLIGAN BAR\n11:00 – Hula hoop challenge \n  \n\n \n14 – 18 July 2025 \nProshop\n09:00 – Free Introduction to Golf \nProshop\n13:00 – Free Putting Lesson \nProshop\n16:00 – Free Chipping Lesson \n18:00 MULLIGAN\nKids Karaoke \n\n  \n19 July 2025 \nProshop\n09:00 – Free Introduction to Golf \nProshop\n13:00 – Free Putting Lesson \n15:00 MULLIGAN BAR\nBeat the Pro \n16:00 JNR RANGERS\nKids Balloon Race \n17:00 JNR MASTER CHEF\nKids Pizza Making\n18:00 GOLF ACADAMY \nFree Chipping Class \n19:00 MULLIGAN BAR \nNight Shootout \n20:00  MULLIGAN BAR\nEntertainment \n\n20 July 2025 \n09:00 JNR RANGERS \nKids Game Walk- Meet at\nAdventures & Activity Centre \n10:00 GOLF ACADAMY\nChipping Lesson – Meet at\nthe Pro Shop\n11:00 JNR GAME RANGER\nEgg race\n12:00 JNR GAME RANGER\nReptile Demo/Bokdrol spoeg – meet\nat the Adventure & Activity Centre \n13:00 JNR MASTER CHEF\nKids Pizza Making \n14:00  MULLIGAN BAR\nGeneral Knowledge Quiz \n15:00 MULLIGAN BAR\nBeat the Pro \n16:00 JNR RANGERS\nKids Balloon Race \n17:00 GOLF ACADAMY\nFree Putting Class \n18:00 MULLIGAN BAR\nLongest drive competition\n \n19:00 MULLIGAN BAR\nNight Putt Putt \n20:00 MULLIGAN BAR\nKaraoke \n\n21 July 2025 \nMULLIGAN BAR\n08:00 – Guess that song \nMULLIGAN BAR\n09:00 – Pop Quiz \nJNR MASTER CHEF\n10:00 – Waffle Decorating \nMULLIGAN BAR\n11:00 – Hula hoop challenge
URL:https://zebulagolfestate.co.za/event/weekend3/
LOCATION:Zebula Club House\, Zebula Golf Estate and Spa\, Bela Bela\, 0480\, South Africa
CATEGORIES:Activities
ATTACH;FMTTYPE=image/jpeg:https://zebulagolfestate.co.za/wp-content/uploads/2024/05/MixCollage-29-Aug-2024-04-01-PM-7597-scaled.jpg
END:VEVENT
END:VCALENDAR