BEGIN:VCALENDAR
VERSION:2.0
PRODID:-//Zebula Golf Estate &amp; Spa - ECPv6.5.1.3//NONSGML v1.0//EN
CALSCALE:GREGORIAN
METHOD:PUBLISH
X-WR-CALNAME:Zebula Golf Estate &amp; Spa
X-ORIGINAL-URL:https://zebulagolfestate.co.za
X-WR-CALDESC:Events for Zebula Golf Estate &amp; Spa
REFRESH-INTERVAL;VALUE=DURATION:PT1H
X-Robots-Tag:noindex
X-PUBLISHED-TTL:PT1H
BEGIN:VTIMEZONE
TZID:Africa/Johannesburg
BEGIN:STANDARD
TZOFFSETFROM:+0200
TZOFFSETTO:+0200
TZNAME:SAST
DTSTART:20250101T000000
END:STANDARD
END:VTIMEZONE
BEGIN:VEVENT
DTSTART;TZID=Africa/Johannesburg:20250627T080000
DTEND;TZID=Africa/Johannesburg:20250721T130000
DTSTAMP:20260424T235553
CREATED:20250602T101344Z
LAST-MODIFIED:20250725T071742Z
UID:84722-1751011200-1753102800@zebulagolfestate.co.za
SUMMARY:School Holiday activities: 27 June - 21 July 2025
DESCRIPTION:27 June 2025 \n15:00 MULLIGAN BAR\nBeat the Pro \n16:00 JNR RANGERS\nKids Balloon Race \n17:00 JNR MASTER CHEF\nKids Pizza Making\n18:00 GOLF ACADAMY \nFree Chipping Class \n19:00 MULLIGAN BAR \nNight Shootout \n20:00  MULLIGAN BAR\nEntertainment \n\n28 June 2025 \n09:00 JNR RANGERS \nKids Game Walk- Meet at\nAdventures & Activity Centre \n10:00 GOLF ACADAMY\nChipping Lesson – Meet at\nthe Pro Shop\n11:00 JNR GAME RANGER\nEgg race\n12:00 JNR GAME RANGER\nReptile Demo/Bokdrol spoeg – meet\nat the Adventure & Activity Centre \n13:00 JNR MASTER CHEF\nKids Pizza Making \n14:00  MULLIGAN BAR\nGeneral Knowledge Quiz \n15:00 MULLIGAN BAR\nBeat the Pro \n16:00 JNR RANGERS\nKids Balloon Race \n17:00 GOLF ACADAMY\nFree Putting Class \n \n18:00 MULLIGAN BAR\n Longest drive competition \n19:00 MULLIGAN BAR\nNight Putt Putt \n20:00 MULLIGAN BAR\nKaraoke \n\n29 June 2025 \nMULLIGAN BAR\n08:00 – Guess that song \nMULLIGAN BAR\n09:00 – Pop Quiz \nJNR MASTER CHEF\n10:00 – Waffle Decorating \nMULLIGAN BAR\n11:00 – Hula hoop challenge \n  \n\n \n30 June – 3 July 2025 \nProshop\n09:00 – Free Introduction to Golf \nProshop\n13:00 – Free Putting Lesson \nProshop\n16:00 – Free Chipping Lesson \n18:00 MULLIGAN\nKids Karaoke \n  \n\n04 June 2025 \nProshop\n09:00 – Free Introduction to Golf \nProshop\n13:00 – Free Putting Lesson \n15:00 MULLIGAN BAR\nBeat the Pro \n16:00 JNR RANGERS\nKids Balloon Race \n17:00 JNR MASTER CHEF\nKids Pizza Making\n18:00 GOLF ACADAMY \nFree Chipping Class \n19:00 MULLIGAN BAR \nNight Shootout \n20:00  MULLIGAN BAR\nEntertainment \n\n05 July 2025 \n09:00 JNR RANGERS \nKids Game Walk- Meet at\nAdventures & Activity Centre \n10:00 GOLF ACADAMY\nChipping Lesson – Meet at\nthe Pro Shop\n11:00 JNR GAME RANGER\nEgg race\n12:00 JNR GAME RANGER\nReptile Demo/Bokdrol spoeg – meet\nat the Adventure & Activity Centre \n13:00 JNR MASTER CHEF\nKids Pizza Making \n14:00  MULLIGAN BAR\nGeneral Knowledge Quiz \n15:00 MULLIGAN BAR\nBeat the Pro \n16:00 JNR RANGERS\nKids Balloon Race \n17:00 GOLF ACADAMY\nFree Putting Class \n18:00 MULLIGAN BAR\nLongest drive competition\n \n19:00 MULLIGAN BAR\nNight Putt Putt \n20:00MULLIGAN BAR\nKaraoke \n\n06 July 2025 \nMULLIGAN BAR\n08:00 – Guess that song \nMULLIGAN BAR\n09:00 – Pop Quiz \nJNR MASTER CHEF\n10:00 – Waffle Decorating \nMULLIGAN BAR\n11:00 – Hula hoop challenge \n  \n\n \n07 – 10 July 2025 \nProshop\n09:00 – Free Introduction to Golf \nProshop\n13:00 – Free Putting Lesson \nProshop\n16:00 – Free Chipping Lesson \n18:00 MULLIGAN\nKids Karaoke \n\n11 June 2025 \nProshop\n09:00 – Free Introduction to Golf \nProshop\n13:00 – Free Putting Lesson \n15:00 MULLIGAN BAR\nBeat the Pro \n16:00 JNR RANGERS\nKids Balloon Race \n17:00 JNR MASTER CHEF\nKids Pizza Making\n18:00 GOLF ACADAMY \nFree Chipping Class \n19:00 MULLIGAN BAR \nNight Shootout \n20:00  MULLIGAN BAR\nEntertainment \n\n12 July 2025 \n09:00 JNR RANGERS \nKids Game Walk- Meet at\nAdventures & Activity Centre \n10:00 GOLF ACADAMY\nChipping Lesson – Meet at\nthe Pro Shop\n11:00 JNR GAME RANGER\nEgg race\n12:00 JNR GAME RANGER\nReptile Demo/Bokdrol spoeg – meet\nat the Adventure & Activity Centre \n13:00 JNR MASTER CHEF\nKids Pizza Making \n14:00  MULLIGAN BAR\nGeneral Knowledge Quiz \n15:00 MULLIGAN BAR\nBeat the Pro \n16:00 JNR RANGERS\nKids Balloon Race \n17:00 GOLF ACADAMY\nFree Putting Class  \n\n18:00 MULLIGAN BAR\nLongest drive competition \n19:00 MULLIGAN BAR\n Night Putt Putt \n20:00MULLIGAN BAR\nKaraoke \n\n13 July 2025 \nMULLIGAN BAR\n08:00 – Guess that song \nMULLIGAN BAR\n09:00 – Pop Quiz \nJNR MASTER CHEF\n10:00 – Waffle Decorating \nMULLIGAN BAR\n11:00 – Hula hoop challenge \n  \n\n \n14 – 18 July 2025 \nProshop\n09:00 – Free Introduction to Golf \nProshop\n13:00 – Free Putting Lesson \nProshop\n16:00 – Free Chipping Lesson \n18:00 MULLIGAN\nKids Karaoke \n\n  \n19 July 2025 \nProshop\n09:00 – Free Introduction to Golf \nProshop\n13:00 – Free Putting Lesson \n15:00 MULLIGAN BAR\nBeat the Pro \n16:00 JNR RANGERS\nKids Balloon Race \n17:00 JNR MASTER CHEF\nKids Pizza Making\n18:00 GOLF ACADAMY \nFree Chipping Class \n19:00 MULLIGAN BAR \nNight Shootout \n20:00  MULLIGAN BAR\nEntertainment \n\n20 July 2025 \n09:00 JNR RANGERS \nKids Game Walk- Meet at\nAdventures & Activity Centre \n10:00 GOLF ACADAMY\nChipping Lesson – Meet at\nthe Pro Shop\n11:00 JNR GAME RANGER\nEgg race\n12:00 JNR GAME RANGER\nReptile Demo/Bokdrol spoeg – meet\nat the Adventure & Activity Centre \n13:00 JNR MASTER CHEF\nKids Pizza Making \n14:00  MULLIGAN BAR\nGeneral Knowledge Quiz \n15:00 MULLIGAN BAR\nBeat the Pro \n16:00 JNR RANGERS\nKids Balloon Race \n17:00 GOLF ACADAMY\nFree Putting Class \n18:00 MULLIGAN BAR\nLongest drive competition\n \n19:00 MULLIGAN BAR\nNight Putt Putt \n20:00 MULLIGAN BAR\nKaraoke \n\n21 July 2025 \nMULLIGAN BAR\n08:00 – Guess that song \nMULLIGAN BAR\n09:00 – Pop Quiz \nJNR MASTER CHEF\n10:00 – Waffle Decorating \nMULLIGAN BAR\n11:00 – Hula hoop challenge
URL:https://zebulagolfestate.co.za/event/weekend3/
LOCATION:Zebula Club House\, Zebula Golf Estate and Spa\, Bela Bela\, 0480\, South Africa
CATEGORIES:Activities
ATTACH;FMTTYPE=image/jpeg:https://zebulagolfestate.co.za/wp-content/uploads/2024/05/MixCollage-29-Aug-2024-04-01-PM-7597-scaled.jpg
END:VEVENT
BEGIN:VEVENT
DTSTART;TZID=Africa/Johannesburg:20250712T140000
DTEND;TZID=Africa/Johannesburg:20250712T230000
DTSTAMP:20260424T235553
CREATED:20250503T132657Z
LAST-MODIFIED:20250504T053621Z
UID:83667-1752328800-1752361200@zebulagolfestate.co.za
SUMMARY:WINTER FESTIVAL IN THE BUSH
DESCRIPTION:❄️ WINTER FESTIVAL IN THE BUSH ❄️Zebula Golf Estate & Spa | 11–12 July 2025 \nEscape the chill and embrace the warmth of the Bushveld this winter!Join us for a cosy weekend filled with: \n🔥 Glühwein by the fire🍲 Traditional South African Potjie Kos🎶 Live music & local entertainment✨ Crackling bonfires and family vibes🛌 Weekend accommodation packages available \nCelebrate winter\, Zebula-style — where comfort\, culture\, and the wild meet.
URL:https://zebulagolfestate.co.za/event/winter-festival-in-the-bush/
LOCATION:Zebula Conference Centre\, FARM NO 534 KQ\, D1000\, MABULA DISTRICT\, Bela-Bela\, Limpopo\, 0480\, South Africa
CATEGORIES:Music,Weekend
ATTACH;FMTTYPE=image/jpeg:https://zebulagolfestate.co.za/wp-content/uploads/2025/05/WINTER-FESTIVAL.jpg
ORGANIZER;CN="Zebula Conferencing":MAILTO:conferencing@zebula.co.za
END:VEVENT
BEGIN:VEVENT
DTSTART;TZID=Africa/Johannesburg:20250718T153000
DTEND;TZID=Africa/Johannesburg:20250719T130000
DTSTAMP:20260424T235553
CREATED:20250709T120534Z
LAST-MODIFIED:20250709T120626Z
UID:86339-1752852600-1752930000@zebulagolfestate.co.za
SUMMARY:CLINTON VILJOEN
DESCRIPTION:🎶 Live Music with Clinton Viljoen at the Zebula Clubhouse🗓️ 18 & 19 July  \nJoin us for some unforgettable live music as the incredibly talented Clinton Viljoen takes the stage at the Zebula Clubhouse. \nKnown for his soulful melodies\, masterful arrangements\, and boundless musical talent\, Clinton brings a rich and dynamic performance that resonates with audiences of all ages. Whether he’s behind the mic\, on the keys\, or crafting harmonies\, his passion for music is undeniable. \nKick back\, relax\, and enjoy the vibrant Bushveld atmosphere with great food\, refreshing drinks\, and the sounds of a rising star. \nNo cover charge | Walk-ins welcome
URL:https://zebulagolfestate.co.za/event/clinton-viljoen/
LOCATION:Zebula Club House\, Zebula Golf Estate and Spa\, Bela Bela\, 0480\, South Africa
CATEGORIES:Music
ATTACH;FMTTYPE=image/jpeg:https://zebulagolfestate.co.za/wp-content/uploads/2025/07/CLINTON-18-19.jpg
ORGANIZER;CN="Zebula Conferencing":MAILTO:conferencing@zebula.co.za
END:VEVENT
BEGIN:VEVENT
DTSTART;TZID=Africa/Johannesburg:20250725T153000
DTEND;TZID=Africa/Johannesburg:20250726T130000
DTSTAMP:20260424T235553
CREATED:20250709T120804Z
LAST-MODIFIED:20250716T072927Z
UID:86344-1753457400-1753534800@zebulagolfestate.co.za
SUMMARY:CLINTON VILJOEN
DESCRIPTION:🎶 Live Music with Clinton Viljoen at the Zebula Clubhouse🗓️ 25 & 26 July  \nJoin us for some unforgettable live music as the incredibly talented Clinton Viljoen takes the stage at the Zebula Clubhouse. \nKnown for his soulful melodies\, masterful arrangements\, and boundless musical talent\, Clinton brings a rich and dynamic performance that resonates with audiences of all ages. Whether he’s behind the mic\, on the keys\, or crafting harmonies\, his passion for music is undeniable. \nKick back\, relax\, and enjoy the vibrant Bushveld atmosphere with great food\, refreshing drinks\, and the sounds of a rising star. \nNo cover charge | Walk-ins welcome
URL:https://zebulagolfestate.co.za/event/clinton-viljoen-2/
LOCATION:Zebula Club House\, Zebula Golf Estate and Spa\, Bela Bela\, 0480\, South Africa
CATEGORIES:Music
ATTACH;FMTTYPE=image/jpeg:https://zebulagolfestate.co.za/wp-content/uploads/2025/07/clinton-25-26.jpg
ORGANIZER;CN="Zebula Conferencing":MAILTO:conferencing@zebula.co.za
END:VEVENT
END:VCALENDAR