BEGIN:VCALENDAR
VERSION:2.0
PRODID:-//Zebula Golf Estate &amp; Spa - ECPv6.5.1.3//NONSGML v1.0//EN
CALSCALE:GREGORIAN
METHOD:PUBLISH
X-ORIGINAL-URL:https://zebulagolfestate.co.za
X-WR-CALDESC:Events for Zebula Golf Estate &amp; Spa
REFRESH-INTERVAL;VALUE=DURATION:PT1H
X-Robots-Tag:noindex
X-PUBLISHED-TTL:PT1H
BEGIN:VTIMEZONE
TZID:Africa/Johannesburg
BEGIN:STANDARD
TZOFFSETFROM:+0200
TZOFFSETTO:+0200
TZNAME:SAST
DTSTART:20250101T000000
END:STANDARD
END:VTIMEZONE
BEGIN:VEVENT
DTSTART;VALUE=DATE:20250905
DTEND;VALUE=DATE:20250906
DTSTAMP:20260424T210530
CREATED:20240528T100954Z
LAST-MODIFIED:20250729T063156Z
UID:66993-1757030400-1757116799@zebulagolfestate.co.za
SUMMARY:Literacy4Life Charity Golf Day
DESCRIPTION:Join us for the 6th Annual Literacy For Life Charity Golf Day! \nTee off for a great cause at the stunning Zebula Golf Estate & Spa on 5th September 2025. This popular annual event supports the incredible work of Literacy for Life\, promoting reading and education in local communities. \nWhether you’re swinging solo or bringing your whole fourball\, your participation helps change lives: \n\n\nIndividual Entry: R1100 \n\n\nFourball: R4400 \n\n\nFourball + Hole Sponsorship: R6000(Includes green fees\, cart\, halfway\, and dinner) \n\n\n🧢 Golf shirts and bucket hats sold separately🎯 Great co-branding opportunities available – contact us via WhatsApp: 079 888 7877 \nAccommodation packages available at: www.zebula.co.za \n📧 Email: projects@literacy4life.co.za📱 WhatsApp: 079 888 7877💳 FNB: 62822461323Ref: Name & Cellphone NumberNPO: Literacy for Life – 230-257 \nLet’s putt for a purpose and make reading fashionable again!
URL:https://zebulagolfestate.co.za/event/literacy4life-charity-golf-day/
LOCATION:Zebula Golf Course\, FARM NO 534 KQ\, D1000\, MABULA DISTRICT\, Bela-Bela\, Limpopo\, 0480\, South Africa
CATEGORIES:Golf
ATTACH;FMTTYPE=image/jpeg:https://zebulagolfestate.co.za/wp-content/uploads/2024/05/WhatsApp-Image-2025-07-29-at-07.53.05.jpeg
ORGANIZER;CN="Zebula Proshop":MAILTO:proshop@zebula.co.za
END:VEVENT
BEGIN:VEVENT
DTSTART;TZID=Africa/Johannesburg:20250905T140000
DTEND;TZID=Africa/Johannesburg:20250906T220000
DTSTAMP:20260424T210530
CREATED:20250727T105420Z
LAST-MODIFIED:20250727T105420Z
UID:87143-1757080800-1757196000@zebulagolfestate.co.za
SUMMARY:Singer Songwriter Alouise
DESCRIPTION:This Weekend at The Mulligan: Alouise Live! \n\n\nGet ready for an unforgettable experience as the incredibly talented Alouise takes the stage at The Mulligan\, Zebula Clubhouse this weekend! \n\n\n Who is Alouise?\n\n\nA multi-instrumentalist with 20 years of music teaching experience.\nPlays guitar\, bass\, drums\, sings\, and dabbles in music production and songwriting.\nCurrently the bassist for multi-platinum Afrikaans superstar\, Bok van Blerk.\nA seasoned performer who has graced South Africa’s biggest stages and worked with top local and international artists.
URL:https://zebulagolfestate.co.za/event/singer-songwriter-alouise-5/
LOCATION:Zebula Club House\, Zebula Golf Estate and Spa\, Bela Bela\, 0480\, South Africa
CATEGORIES:Activities,Music
ATTACH;FMTTYPE=image/jpeg:https://zebulagolfestate.co.za/wp-content/uploads/2025/01/Alouise.jpg
ORGANIZER;CN="Zebula Reservations":MAILTO:reservations@zebula.co.za
END:VEVENT
BEGIN:VEVENT
DTSTART;TZID=Africa/Johannesburg:20250905T160000
DTEND;TZID=Africa/Johannesburg:20250906T220000
DTSTAMP:20260424T210530
CREATED:20250513T113638Z
LAST-MODIFIED:20250513T113638Z
UID:84034-1757088000-1757196000@zebulagolfestate.co.za
SUMMARY:Gin & Rum Festival
DESCRIPTION:Sip into Spring – Zebula Gin & Rum Festival5–7 September 2025 | Zebula Golf Estate & Spa \nCelebrate the start of South African Spring in true Bushveld style at the Zebula Gin & Rum Festival — a vibrant weekend escape filled with flavour\, rhythm\, and relaxation. \nFrom 5 to 7 September\, Zebula comes alive with the bold botanicals of craft gin\, the smooth indulgence of aged rum\, and the warm energy of a new season. Stroll between tasting stations\, savour gourmet food\, enjoy live music under the stars\, and soak in the scenic luxury of the Bushveld’s most iconic estate. \nWhether you’re toasting with friends or discovering new favourites\, this is your invitation to shake off winter and welcome Spring with style\, sunshine\, and spirit. \nExpect:🍸 A curated selection of local craft gins & rums🎶 Live music & entertainment🍴 Delicious food pairings🌿 A laid-back Bushveld setting with golf\, spa\, and adventure options \nLet the season of flavour begin!
URL:https://zebulagolfestate.co.za/event/gin-rum-festival/
LOCATION:Zebula Conference Centre\, FARM NO 534 KQ\, D1000\, MABULA DISTRICT\, Bela-Bela\, Limpopo\, 0480\, South Africa
CATEGORIES:Music,Weekend
ATTACH;FMTTYPE=image/jpeg:https://zebulagolfestate.co.za/wp-content/uploads/2025/05/GIN-AND-RUM-FESTIVAL.jpg
ORGANIZER;CN="Zebula Conferencing":MAILTO:conferencing@zebula.co.za
END:VEVENT
BEGIN:VEVENT
DTSTART;TZID=Africa/Johannesburg:20250912T153000
DTEND;TZID=Africa/Johannesburg:20250913T130000
DTSTAMP:20260424T210530
CREATED:20250727T103709Z
LAST-MODIFIED:20250727T103709Z
UID:87127-1757691000-1757768400@zebulagolfestate.co.za
SUMMARY:CLINTON VILJOEN
DESCRIPTION:🎶 Live Music with Clinton Viljoen at the Zebula Clubhouse🗓️ 12 & 13 September \nJoin us for some unforgettable live music as the incredibly talented Clinton Viljoen takes the stage at the Zebula Clubhouse. \nKnown for his soulful melodies\, masterful arrangements\, and boundless musical talent\, Clinton brings a rich and dynamic performance that resonates with audiences of all ages. Whether he’s behind the mic\, on the keys\, or crafting harmonies\, his passion for music is undeniable. \nKick back\, relax\, and enjoy the vibrant Bushveld atmosphere with great food\, refreshing drinks\, and the sounds of a rising star. \nNo cover charge | Walk-ins welcome
URL:https://zebulagolfestate.co.za/event/clinton-viljoen-5/
LOCATION:Zebula Club House\, Zebula Golf Estate and Spa\, Bela Bela\, 0480\, South Africa
CATEGORIES:Music
ATTACH;FMTTYPE=image/jpeg:https://zebulagolfestate.co.za/wp-content/uploads/2025/07/1196694000008111004_zc_v1_1752670353750_clinton_mailer.jpg
ORGANIZER;CN="Zebula Conferencing":MAILTO:conferencing@zebula.co.za
END:VEVENT
BEGIN:VEVENT
DTSTART;TZID=Africa/Johannesburg:20250920T110000
DTEND;TZID=Africa/Johannesburg:20250927T150000
DTSTAMP:20260424T210530
CREATED:20250914T150803Z
LAST-MODIFIED:20250914T150803Z
UID:89262-1758366000-1758985200@zebulagolfestate.co.za
SUMMARY:Heritage Day week
DESCRIPTION:Celebrate Heritage Day the Bushveld way! Join us for an unforgettable week as we launch our brand-new Braai Area at the Pizzeria Square. \nEnjoy a feast of authentic South African braai flavours\, paired with our signature traditional drink specials\, while talented local artists set the tone with live music all week long. \nBring your friends\, family\, and festive spirit — it’s time to relax\, savour\, and make memories in true Zebula style.
URL:https://zebulagolfestate.co.za/event/heritage-day-week/
LOCATION:Zebula Conference Centre\, FARM NO 534 KQ\, D1000\, MABULA DISTRICT\, Bela-Bela\, Limpopo\, 0480\, South Africa
CATEGORIES:Music,Weekend
ATTACH;FMTTYPE=image/png:https://zebulagolfestate.co.za/wp-content/uploads/2025/09/9d867371-f5c6-4b12-8b5b-70b73c2663a6.png
ORGANIZER;CN="Zebula Conferencing":MAILTO:conferencing@zebula.co.za
END:VEVENT
BEGIN:VEVENT
DTSTART;TZID=Africa/Johannesburg:20250926T153000
DTEND;TZID=Africa/Johannesburg:20250927T130000
DTSTAMP:20260424T210530
CREATED:20250727T103835Z
LAST-MODIFIED:20250727T103835Z
UID:87129-1758900600-1758978000@zebulagolfestate.co.za
SUMMARY:CLINTON VILJOEN
DESCRIPTION:🎶 Live Music with Clinton Viljoen at the Zebula Clubhouse🗓️ 26 & 27 September \nJoin us for some unforgettable live music as the incredibly talented Clinton Viljoen takes the stage at the Zebula Clubhouse. \nKnown for his soulful melodies\, masterful arrangements\, and boundless musical talent\, Clinton brings a rich and dynamic performance that resonates with audiences of all ages. Whether he’s behind the mic\, on the keys\, or crafting harmonies\, his passion for music is undeniable. \nKick back\, relax\, and enjoy the vibrant Bushveld atmosphere with great food\, refreshing drinks\, and the sounds of a rising star. \nNo cover charge | Walk-ins welcome
URL:https://zebulagolfestate.co.za/event/clinton-viljoen-6/
LOCATION:Zebula Club House\, Zebula Golf Estate and Spa\, Bela Bela\, 0480\, South Africa
CATEGORIES:Music
ATTACH;FMTTYPE=image/jpeg:https://zebulagolfestate.co.za/wp-content/uploads/2025/07/1196694000008111004_zc_v1_1752670353750_clinton_mailer.jpg
ORGANIZER;CN="Zebula Conferencing":MAILTO:conferencing@zebula.co.za
END:VEVENT
END:VCALENDAR