BEGIN:VCALENDAR
VERSION:2.0
PRODID:-//Zebula Golf Estate &amp; Spa - ECPv6.5.1.3//NONSGML v1.0//EN
CALSCALE:GREGORIAN
METHOD:PUBLISH
X-ORIGINAL-URL:https://zebulagolfestate.co.za
X-WR-CALDESC:Events for Zebula Golf Estate &amp; Spa
REFRESH-INTERVAL;VALUE=DURATION:PT1H
X-Robots-Tag:noindex
X-PUBLISHED-TTL:PT1H
BEGIN:VTIMEZONE
TZID:Africa/Johannesburg
BEGIN:STANDARD
TZOFFSETFROM:+0200
TZOFFSETTO:+0200
TZNAME:SAST
DTSTART:20250101T000000
END:STANDARD
END:VTIMEZONE
BEGIN:VEVENT
DTSTART;TZID=Africa/Johannesburg:20251212T080000
DTEND;TZID=Africa/Johannesburg:20260104T130000
DTSTAMP:20260424T145041
CREATED:20251125T064617Z
LAST-MODIFIED:20251215T104019Z
UID:90907-1765526400-1767531600@zebulagolfestate.co.za
SUMMARY:December Things to Do:  12 December - 04 January 2026
DESCRIPTION:
URL:https://zebulagolfestate.co.za/event/weekend/
LOCATION:Zebula Club House\, Zebula Golf Estate and Spa\, Bela Bela\, 0480\, South Africa
CATEGORIES:Activities
ATTACH;FMTTYPE=image/jpeg:https://zebulagolfestate.co.za/wp-content/uploads/2024/05/MixCollage-29-Aug-2024-04-01-PM-7597-scaled.jpg
END:VEVENT
BEGIN:VEVENT
DTSTART;TZID=Africa/Johannesburg:20251231T190000
DTEND;TZID=Africa/Johannesburg:20260101T010000
DTSTAMP:20260424T145041
CREATED:20250703T104358Z
LAST-MODIFIED:20251231T124602Z
UID:85979-1767207600-1767229200@zebulagolfestate.co.za
SUMMARY:New Years Eve Party
DESCRIPTION:Welcome 2026 with a truly unforgettable Bushveld New Year’s Celebration at Zebula! \nCreate your perfect New Year’s Eve with The Full Bushveld Experience (R350 per person) — a relaxed Potjie Braaiat the braai area beside The Mulligan\, followed by entry to The Mulligan’s New Year’s Party. \nExpect crackling fires\, hearty flavours\, music\, laughter\, and a magical Bushveld countdown — plus a complimentary glass of bubbly to toast the moment. \nA warm\, memorable way to say goodbye to 2025 and welcome 2026 in true Zebula style. 🥂
URL:https://zebulagolfestate.co.za/event/new-years-eve-party/
LOCATION:Zebula Club House\, Zebula Golf Estate and Spa\, Bela Bela\, 0480\, South Africa
CATEGORIES:Festive Season
ATTACH;FMTTYPE=image/jpeg:https://zebulagolfestate.co.za/wp-content/uploads/2025/07/HAPPY-NEW-YEAR.jpg
ORGANIZER;CN="Zebula Reservations":MAILTO:reservations@zebula.co.za
END:VEVENT
BEGIN:VEVENT
DTSTART;TZID=Africa/Johannesburg:20260102T113000
DTEND;TZID=Africa/Johannesburg:20260103T190000
DTSTAMP:20260424T145041
CREATED:20260101T091644Z
LAST-MODIFIED:20260101T091644Z
UID:91737-1767353400-1767466800@zebulagolfestate.co.za
SUMMARY:G7 LIVE BAND @ THE MULLIGAN
DESCRIPTION:🎶 Live Music This Weekend at The Mulligan 🎶 \nWe’re excited to welcome G7 Live Band to The Mulligan Irish Pub for their first-ever performance with us this weekend! \nExpect smooth jazz\, soulful sounds\, great vibes\, and the kind of atmosphere that makes a weekend at Zebula extra special. 🍻✨ \n📍 The Mulligan Irish Pub📅 This weekend | 2–3 January \nNo fuss. No overpromise. Just good music\, good company\, and a great place to be.See you there! 🎷🥂
URL:https://zebulagolfestate.co.za/event/g7-live-band-the-mulligan/
LOCATION:Zebula Club House\, Zebula Golf Estate and Spa\, Bela Bela\, 0480\, South Africa
CATEGORIES:Music
ATTACH;FMTTYPE=image/jpeg:https://zebulagolfestate.co.za/wp-content/uploads/2026/01/502573111_4000740860175072_7940751867351071213_n.jpg
ORGANIZER;CN="Zebula Conferencing":MAILTO:conferencing@zebula.co.za
END:VEVENT
BEGIN:VEVENT
DTSTART;TZID=Africa/Johannesburg:20260109T153000
DTEND;TZID=Africa/Johannesburg:20260110T190000
DTSTAMP:20260424T145041
CREATED:20250727T104929Z
LAST-MODIFIED:20260103T072100Z
UID:87141-1767972600-1768071600@zebulagolfestate.co.za
SUMMARY:CLINTON VILJOEN
DESCRIPTION:🎶 Live Music with Clinton Viljoen at the Zebula ClubhouseJoin us for some unforgettable live music as the incredibly talented Clinton Viljoen takes the stage at the Zebula Clubhouse. \nKnown for his soulful melodies\, masterful arrangements\, and boundless musical talent\, Clinton brings a rich and dynamic performance that resonates with audiences of all ages. Whether he’s behind the mic\, on the keys\, or crafting harmonies\, his passion for music is undeniable. \nKick back\, relax\, and enjoy the vibrant Bushveld atmosphere with great food\, refreshing drinks\, and the sounds of a rising star. \nNo cover charge | Walk-ins welcome
URL:https://zebulagolfestate.co.za/event/clinton-viljoen-12/2026-01-09/
LOCATION:Zebula Club House\, Zebula Golf Estate and Spa\, Bela Bela\, 0480\, South Africa
CATEGORIES:Music
ATTACH;FMTTYPE=image/jpeg:https://zebulagolfestate.co.za/wp-content/uploads/2025/07/1196694000008111004_zc_v1_1752670353750_clinton_mailer.jpg
ORGANIZER;CN="Zebula Conferencing":MAILTO:conferencing@zebula.co.za
END:VEVENT
BEGIN:VEVENT
DTSTART;TZID=Africa/Johannesburg:20260110T153000
DTEND;TZID=Africa/Johannesburg:20260111T190000
DTSTAMP:20260424T145041
CREATED:20250727T104929Z
LAST-MODIFIED:20250727T104929Z
UID:91760-1768059000-1768158000@zebulagolfestate.co.za
SUMMARY:CLINTON VILJOEN
DESCRIPTION:🎶 Live Music with Clinton Viljoen at the Zebula ClubhouseJoin us for some unforgettable live music as the incredibly talented Clinton Viljoen takes the stage at the Zebula Clubhouse. \nKnown for his soulful melodies\, masterful arrangements\, and boundless musical talent\, Clinton brings a rich and dynamic performance that resonates with audiences of all ages. Whether he’s behind the mic\, on the keys\, or crafting harmonies\, his passion for music is undeniable. \nKick back\, relax\, and enjoy the vibrant Bushveld atmosphere with great food\, refreshing drinks\, and the sounds of a rising star. \nNo cover charge | Walk-ins welcome
URL:https://zebulagolfestate.co.za/event/clinton-viljoen-12/2026-01-10/
LOCATION:Zebula Club House\, Zebula Golf Estate and Spa\, Bela Bela\, 0480\, South Africa
CATEGORIES:Music
ATTACH;FMTTYPE=image/jpeg:https://zebulagolfestate.co.za/wp-content/uploads/2025/07/1196694000008111004_zc_v1_1752670353750_clinton_mailer.jpg
ORGANIZER;CN="Zebula Conferencing":MAILTO:conferencing@zebula.co.za
END:VEVENT
BEGIN:VEVENT
DTSTART;TZID=Africa/Johannesburg:20260116T153000
DTEND;TZID=Africa/Johannesburg:20260117T190000
DTSTAMP:20260424T145041
CREATED:20250727T104929Z
LAST-MODIFIED:20250727T104929Z
UID:91761-1768577400-1768676400@zebulagolfestate.co.za
SUMMARY:CLINTON VILJOEN
DESCRIPTION:🎶 Live Music with Clinton Viljoen at the Zebula ClubhouseJoin us for some unforgettable live music as the incredibly talented Clinton Viljoen takes the stage at the Zebula Clubhouse. \nKnown for his soulful melodies\, masterful arrangements\, and boundless musical talent\, Clinton brings a rich and dynamic performance that resonates with audiences of all ages. Whether he’s behind the mic\, on the keys\, or crafting harmonies\, his passion for music is undeniable. \nKick back\, relax\, and enjoy the vibrant Bushveld atmosphere with great food\, refreshing drinks\, and the sounds of a rising star. \nNo cover charge | Walk-ins welcome
URL:https://zebulagolfestate.co.za/event/clinton-viljoen-12/2026-01-16/
LOCATION:Zebula Club House\, Zebula Golf Estate and Spa\, Bela Bela\, 0480\, South Africa
CATEGORIES:Music
ATTACH;FMTTYPE=image/jpeg:https://zebulagolfestate.co.za/wp-content/uploads/2025/07/1196694000008111004_zc_v1_1752670353750_clinton_mailer.jpg
ORGANIZER;CN="Zebula Conferencing":MAILTO:conferencing@zebula.co.za
END:VEVENT
BEGIN:VEVENT
DTSTART;TZID=Africa/Johannesburg:20260117T153000
DTEND;TZID=Africa/Johannesburg:20260118T190000
DTSTAMP:20260424T145041
CREATED:20250727T104929Z
LAST-MODIFIED:20250727T104929Z
UID:91762-1768663800-1768762800@zebulagolfestate.co.za
SUMMARY:CLINTON VILJOEN
DESCRIPTION:🎶 Live Music with Clinton Viljoen at the Zebula ClubhouseJoin us for some unforgettable live music as the incredibly talented Clinton Viljoen takes the stage at the Zebula Clubhouse. \nKnown for his soulful melodies\, masterful arrangements\, and boundless musical talent\, Clinton brings a rich and dynamic performance that resonates with audiences of all ages. Whether he’s behind the mic\, on the keys\, or crafting harmonies\, his passion for music is undeniable. \nKick back\, relax\, and enjoy the vibrant Bushveld atmosphere with great food\, refreshing drinks\, and the sounds of a rising star. \nNo cover charge | Walk-ins welcome
URL:https://zebulagolfestate.co.za/event/clinton-viljoen-12/2026-01-17/
LOCATION:Zebula Club House\, Zebula Golf Estate and Spa\, Bela Bela\, 0480\, South Africa
CATEGORIES:Music
ATTACH;FMTTYPE=image/jpeg:https://zebulagolfestate.co.za/wp-content/uploads/2025/07/1196694000008111004_zc_v1_1752670353750_clinton_mailer.jpg
ORGANIZER;CN="Zebula Conferencing":MAILTO:conferencing@zebula.co.za
END:VEVENT
BEGIN:VEVENT
DTSTART;TZID=Africa/Johannesburg:20260123T153000
DTEND;TZID=Africa/Johannesburg:20260124T190000
DTSTAMP:20260424T145041
CREATED:20250727T104929Z
LAST-MODIFIED:20250727T104929Z
UID:91763-1769182200-1769281200@zebulagolfestate.co.za
SUMMARY:CLINTON VILJOEN
DESCRIPTION:🎶 Live Music with Clinton Viljoen at the Zebula ClubhouseJoin us for some unforgettable live music as the incredibly talented Clinton Viljoen takes the stage at the Zebula Clubhouse. \nKnown for his soulful melodies\, masterful arrangements\, and boundless musical talent\, Clinton brings a rich and dynamic performance that resonates with audiences of all ages. Whether he’s behind the mic\, on the keys\, or crafting harmonies\, his passion for music is undeniable. \nKick back\, relax\, and enjoy the vibrant Bushveld atmosphere with great food\, refreshing drinks\, and the sounds of a rising star. \nNo cover charge | Walk-ins welcome
URL:https://zebulagolfestate.co.za/event/clinton-viljoen-12/2026-01-23/
LOCATION:Zebula Club House\, Zebula Golf Estate and Spa\, Bela Bela\, 0480\, South Africa
CATEGORIES:Music
ATTACH;FMTTYPE=image/jpeg:https://zebulagolfestate.co.za/wp-content/uploads/2025/07/1196694000008111004_zc_v1_1752670353750_clinton_mailer.jpg
ORGANIZER;CN="Zebula Conferencing":MAILTO:conferencing@zebula.co.za
END:VEVENT
BEGIN:VEVENT
DTSTART;TZID=Africa/Johannesburg:20260124T153000
DTEND;TZID=Africa/Johannesburg:20260125T190000
DTSTAMP:20260424T145041
CREATED:20250727T104929Z
LAST-MODIFIED:20250727T104929Z
UID:91764-1769268600-1769367600@zebulagolfestate.co.za
SUMMARY:CLINTON VILJOEN
DESCRIPTION:🎶 Live Music with Clinton Viljoen at the Zebula ClubhouseJoin us for some unforgettable live music as the incredibly talented Clinton Viljoen takes the stage at the Zebula Clubhouse. \nKnown for his soulful melodies\, masterful arrangements\, and boundless musical talent\, Clinton brings a rich and dynamic performance that resonates with audiences of all ages. Whether he’s behind the mic\, on the keys\, or crafting harmonies\, his passion for music is undeniable. \nKick back\, relax\, and enjoy the vibrant Bushveld atmosphere with great food\, refreshing drinks\, and the sounds of a rising star. \nNo cover charge | Walk-ins welcome
URL:https://zebulagolfestate.co.za/event/clinton-viljoen-12/2026-01-24/
LOCATION:Zebula Club House\, Zebula Golf Estate and Spa\, Bela Bela\, 0480\, South Africa
CATEGORIES:Music
ATTACH;FMTTYPE=image/jpeg:https://zebulagolfestate.co.za/wp-content/uploads/2025/07/1196694000008111004_zc_v1_1752670353750_clinton_mailer.jpg
ORGANIZER;CN="Zebula Conferencing":MAILTO:conferencing@zebula.co.za
END:VEVENT
BEGIN:VEVENT
DTSTART;TZID=Africa/Johannesburg:20260126T080000
DTEND;TZID=Africa/Johannesburg:20260201T170000
DTSTAMP:20260424T145041
CREATED:20250720T130403Z
LAST-MODIFIED:20260107T120151Z
UID:86874-1769414400-1769965200@zebulagolfestate.co.za
SUMMARY:SDC Open 2026
DESCRIPTION:The 2026 Road to Mallorca begins in South Africa this week with the SDC Open at Zebula Golf Estate & Spa\, Limpopo \nParticipants in the tournament can book their accommodation by clicking here
URL:https://zebulagolfestate.co.za/event/sdc-open-2026/
LOCATION:Zebula Golf Course\, FARM NO 534 KQ\, D1000\, MABULA DISTRICT\, Bela-Bela\, Limpopo\, 0480\, South Africa
CATEGORIES:Golf
ATTACH;FMTTYPE=image/jpeg:https://zebulagolfestate.co.za/wp-content/uploads/2025/07/SDC2026.jpg
ORGANIZER;CN="Zebula Reservations":MAILTO:reservations@zebula.co.za
END:VEVENT
BEGIN:VEVENT
DTSTART;TZID=Africa/Johannesburg:20260130T153000
DTEND;TZID=Africa/Johannesburg:20260131T190000
DTSTAMP:20260424T145041
CREATED:20250727T104929Z
LAST-MODIFIED:20250727T104929Z
UID:91765-1769787000-1769886000@zebulagolfestate.co.za
SUMMARY:CLINTON VILJOEN
DESCRIPTION:🎶 Live Music with Clinton Viljoen at the Zebula ClubhouseJoin us for some unforgettable live music as the incredibly talented Clinton Viljoen takes the stage at the Zebula Clubhouse. \nKnown for his soulful melodies\, masterful arrangements\, and boundless musical talent\, Clinton brings a rich and dynamic performance that resonates with audiences of all ages. Whether he’s behind the mic\, on the keys\, or crafting harmonies\, his passion for music is undeniable. \nKick back\, relax\, and enjoy the vibrant Bushveld atmosphere with great food\, refreshing drinks\, and the sounds of a rising star. \nNo cover charge | Walk-ins welcome
URL:https://zebulagolfestate.co.za/event/clinton-viljoen-12/2026-01-30/
LOCATION:Zebula Club House\, Zebula Golf Estate and Spa\, Bela Bela\, 0480\, South Africa
CATEGORIES:Music
ATTACH;FMTTYPE=image/jpeg:https://zebulagolfestate.co.za/wp-content/uploads/2025/07/1196694000008111004_zc_v1_1752670353750_clinton_mailer.jpg
ORGANIZER;CN="Zebula Conferencing":MAILTO:conferencing@zebula.co.za
END:VEVENT
BEGIN:VEVENT
DTSTART;TZID=Africa/Johannesburg:20260131T153000
DTEND;TZID=Africa/Johannesburg:20260201T190000
DTSTAMP:20260424T145041
CREATED:20250727T104929Z
LAST-MODIFIED:20250727T104929Z
UID:91766-1769873400-1769972400@zebulagolfestate.co.za
SUMMARY:CLINTON VILJOEN
DESCRIPTION:🎶 Live Music with Clinton Viljoen at the Zebula ClubhouseJoin us for some unforgettable live music as the incredibly talented Clinton Viljoen takes the stage at the Zebula Clubhouse. \nKnown for his soulful melodies\, masterful arrangements\, and boundless musical talent\, Clinton brings a rich and dynamic performance that resonates with audiences of all ages. Whether he’s behind the mic\, on the keys\, or crafting harmonies\, his passion for music is undeniable. \nKick back\, relax\, and enjoy the vibrant Bushveld atmosphere with great food\, refreshing drinks\, and the sounds of a rising star. \nNo cover charge | Walk-ins welcome
URL:https://zebulagolfestate.co.za/event/clinton-viljoen-12/2026-01-31/
LOCATION:Zebula Club House\, Zebula Golf Estate and Spa\, Bela Bela\, 0480\, South Africa
CATEGORIES:Music
ATTACH;FMTTYPE=image/jpeg:https://zebulagolfestate.co.za/wp-content/uploads/2025/07/1196694000008111004_zc_v1_1752670353750_clinton_mailer.jpg
ORGANIZER;CN="Zebula Conferencing":MAILTO:conferencing@zebula.co.za
END:VEVENT
END:VCALENDAR