BEGIN:VCALENDAR
VERSION:2.0
PRODID:-//Zebula Golf Estate &amp; Spa - ECPv6.5.1.3//NONSGML v1.0//EN
CALSCALE:GREGORIAN
METHOD:PUBLISH
X-WR-CALNAME:Zebula Golf Estate &amp; Spa
X-ORIGINAL-URL:https://zebulagolfestate.co.za
X-WR-CALDESC:Events for Zebula Golf Estate &amp; Spa
REFRESH-INTERVAL;VALUE=DURATION:PT1H
X-Robots-Tag:noindex
X-PUBLISHED-TTL:PT1H
BEGIN:VTIMEZONE
TZID:Africa/Johannesburg
BEGIN:STANDARD
TZOFFSETFROM:+0200
TZOFFSETTO:+0200
TZNAME:SAST
DTSTART:20230101T000000
END:STANDARD
END:VTIMEZONE
BEGIN:VEVENT
DTSTART;TZID=Africa/Johannesburg:20230519T160000
DTEND;TZID=Africa/Johannesburg:20230521T100000
DTSTAMP:20260424T103523
CREATED:20230308T141207Z
LAST-MODIFIED:20230412T151134Z
UID:48458-1684512000-1684663200@zebulagolfestate.co.za
SUMMARY:WATERBERG ZEBULA FLY-IN
DESCRIPTION:The Waterberg Zebula Fly-in is coming back\, and Zebula Golf Estate is thrilled to share the news. Be part of an exciting family weekend from May 19th to May 21st\, 2023\, and relish the thrill of aviation in the bush. Pilots will engage in a specially crafted Waterberg flying course and in exciting activities such as poacher spotting from the air. Witness the latest radio-controlled aircraft demonstrations\, savor the diverse cuisines at Zebula’s food stalls\, and spend quality time at the Beer tent while watching aircraft land and take off. For the daring and adventurous\, we have organized several Hot Air balloon flights that promise an unforgettable experience. Kids can enjoy the numerous entertainment options\, while Ross Learmonth lead singer from Prime Circle\, The Ross Harding Band\, and the Muse Tribute Band will take center stage and enthrall you with their exceptional performances.
URL:https://zebulagolfestate.co.za/event/waterberg-zebula-fly-in/
LOCATION:Zebula Airstrip\, Farm 534KG\,\, Bela-Bela\, Limpopo\, 0480\, South Africa
CATEGORIES:Fly-in,Weekend
ATTACH;FMTTYPE=image/jpeg:https://zebulagolfestate.co.za/wp-content/uploads/2023/03/airshow-event.jpg
END:VEVENT
END:VCALENDAR